BEGIN:VCALENDAR
VERSION:2.0
PRODID:-//Bingham Family Vineyards - ECPv6.15.20//NONSGML v1.0//EN
CALSCALE:GREGORIAN
METHOD:PUBLISH
X-ORIGINAL-URL:https://binghamfamilyvineyards.com
X-WR-CALDESC:Events for Bingham Family Vineyards
REFRESH-INTERVAL;VALUE=DURATION:PT1H
X-Robots-Tag:noindex
X-PUBLISHED-TTL:PT1H
BEGIN:VTIMEZONE
TZID:America/Chicago
BEGIN:DAYLIGHT
TZOFFSETFROM:-0600
TZOFFSETTO:-0500
TZNAME:CDT
DTSTART:20250309T080000
END:DAYLIGHT
BEGIN:STANDARD
TZOFFSETFROM:-0500
TZOFFSETTO:-0600
TZNAME:CST
DTSTART:20251102T070000
END:STANDARD
BEGIN:DAYLIGHT
TZOFFSETFROM:-0600
TZOFFSETTO:-0500
TZNAME:CDT
DTSTART:20260308T080000
END:DAYLIGHT
BEGIN:STANDARD
TZOFFSETFROM:-0500
TZOFFSETTO:-0600
TZNAME:CST
DTSTART:20261101T070000
END:STANDARD
BEGIN:DAYLIGHT
TZOFFSETFROM:-0600
TZOFFSETTO:-0500
TZNAME:CDT
DTSTART:20270314T080000
END:DAYLIGHT
BEGIN:STANDARD
TZOFFSETFROM:-0500
TZOFFSETTO:-0600
TZNAME:CST
DTSTART:20271107T070000
END:STANDARD
END:VTIMEZONE
BEGIN:VEVENT
DTSTART;TZID=America/Chicago:20260301T120000
DTEND;TZID=America/Chicago:20260301T150000
DTSTAMP:20260421T103010
CREATED:20260107T155959Z
LAST-MODIFIED:20260107T163647Z
UID:10000363-1772366400-1772377200@binghamfamilyvineyards.com
SUMMARY:TWG 100% Texas Wine Tasting Experience | March 1\, 2026
DESCRIPTION:🍷 Real Texas Wine. Rooted in the High Plains. One Unforgettable Afternoon. 🍷\n\n\n\nWe’re proud to share that Bingham Family Vineyards will be pouring at the 100% Texas Tasting Experience\, hosted by Texas Wine Growers\, on Sunday\, March 1\, 2026\, in Fredericksburg. \n\n\n\n\n\n\n\nThis is Texas Wine Growers’ largest consumer event of the year\, bringing together 15 Texas wineries pouring wines made from 100% Texas-grown grapes. One location\, one afternoon\, and up to 20 tastings that showcase what Texas terroir can do. \n\n\n\n👉 Visit with the Bingham family and team as we pour estate-grown wines from our High Plains vineyards\, rooted at 3\,333 feet and shaped by West Texas sun\, wind\, and cool nights. It’s a chance to taste wines grown\, produced\, and bottled by one Texas farming family. \n\n\n\n🎟️ Tickets are on sale now\, with Early Bird pricing available for a limited time.Grab yours before it sells out: texaswinegrowers.com/about/events \n\n\n\nTickets\n\n\n\n\n\n\n\n\nTaste 100% Texas wines crafted solely from Texas-grown grapes from 15 member wineries all in one spot! Your ticket includes 20 tasting samples\, giving you the chance to explore diverse AVAs\, grape varieties\, and winemaking styles from across the state.\n\n\n\nSample Texas flavors from GO TEXAN artisan food partners featuring salsas\, meats\, breads\, pickles\, sweets\, and more from across our great state.\n\n\n\nMeet the makers behind your favorite bottles and discover how they’re shaping the future of Texas agriculture and the state’s growing wine industry.\n\n\n\nExperience our Fireside Chat sessions\, hosted by This is Texas Wine podcast host and wine educator Shelly Wilfong\, featuring winemakers and influential figures in Texas wine. Stay tuned for more details on these special chats!\n\n\n\nTake the taste home: Shop bottles and food products directly after tasting\, perfect for stocking up on your new Texas favorites!
URL:https://binghamfamilyvineyards.com/event/twg-100-texas-wine-tasting-experience-march-1-2026/
LOCATION:Swallows Eve\, 1411 Lower Crabapple Rd\, Fredericksburg\, TX\, 78624
CATEGORIES:Festivals
ATTACH;FMTTYPE=image/png:https://binghamfamilyvineyards.com/wp-content/uploads/2026/01/March-1-TWG-Winery-Post-Graphic.png
END:VEVENT
END:VCALENDAR