BEGIN:VCALENDAR
VERSION:2.0
PRODID:-//Bingham Family Vineyards - ECPv6.15.20//NONSGML v1.0//EN
CALSCALE:GREGORIAN
METHOD:PUBLISH
X-ORIGINAL-URL:https://binghamfamilyvineyards.com
X-WR-CALDESC:Events for Bingham Family Vineyards
REFRESH-INTERVAL;VALUE=DURATION:PT1H
X-Robots-Tag:noindex
X-PUBLISHED-TTL:PT1H
BEGIN:VTIMEZONE
TZID:America/Chicago
BEGIN:DAYLIGHT
TZOFFSETFROM:-0600
TZOFFSETTO:-0500
TZNAME:CDT
DTSTART:20250309T080000
END:DAYLIGHT
BEGIN:STANDARD
TZOFFSETFROM:-0500
TZOFFSETTO:-0600
TZNAME:CST
DTSTART:20251102T070000
END:STANDARD
BEGIN:DAYLIGHT
TZOFFSETFROM:-0600
TZOFFSETTO:-0500
TZNAME:CDT
DTSTART:20260308T080000
END:DAYLIGHT
BEGIN:STANDARD
TZOFFSETFROM:-0500
TZOFFSETTO:-0600
TZNAME:CST
DTSTART:20261101T070000
END:STANDARD
BEGIN:DAYLIGHT
TZOFFSETFROM:-0600
TZOFFSETTO:-0500
TZNAME:CDT
DTSTART:20270314T080000
END:DAYLIGHT
BEGIN:STANDARD
TZOFFSETFROM:-0500
TZOFFSETTO:-0600
TZNAME:CST
DTSTART:20271107T070000
END:STANDARD
END:VTIMEZONE
BEGIN:VEVENT
DTSTART;TZID=America/Chicago:20260411T110000
DTEND;TZID=America/Chicago:20260411T180000
DTSTAMP:20260422T011714
CREATED:20260311T232642Z
LAST-MODIFIED:20260311T233155Z
UID:10000371-1775905200-1775930400@binghamfamilyvineyards.com
SUMMARY:Grapevine Spring Wine Trail – 2026
DESCRIPTION:New Vintage Tastings & Art\n\n\n\n\n\n\n\nToast the arrival of new release wines along Historic Main Street. \n\n\n\nGrapevine’s beloved Spring Wine Trail returns for its 34th year\, bringing together Texas wineries\, local art galleries\, and wine lovers for a day of tasting\, creativity\, and community. \n\n\n\nThis event invites guests to explore Grapevine’s charming Historic Main Street while sampling wines from several Texas wineries and enjoying works by talented regional artists. \n\n\n\n\n\n\n\n\n\n\n\n\n\n\n\n\n\nYour Passport Includes\n\n\n\n• Admission to the Spring Wine Trail featuring new vintage tastings• A souvenir wine glass• Three 1-ounce tastings at each participating winery tasting room• One food tasting at each participating winery• Access to participating art galleries\, studios\, and Grapevine’s Public Art Trail \n\n\n\n\n\n\n\n\n\nPassports can be picked up between 11 a.m. and 4 p.m. on the day of the event at: \n\n\n\nPeace Plaza – Grapevine Main Station815 S. Main St. \n\n\n\nor \n\n\n\nLiberty Park Plaza215 S. Main St. \n\n\n\nPlease bring your confirmation email and a valid photo ID. \n\n\n\n\n\n\n\nVisit Bingham Family Vineyards& Giddens Art Gallery\n\n\n\nWhile exploring Historic Main Street\, be sure to stop by Bingham Family Vineyards\, located at: \n\n\n\n620 S. Main St.\, Grapevine \n\n\n\nWe will be sharing wines crafted from our 100% Texas High Plains estate-grown grapes\, including exciting new releases perfect for celebrating spring. \n\n\n\nWhether you are discovering our wines for the first time or returning to enjoy a favorite vintage\, we would love to welcome you during the Spring Wine Trail. \n\n\n\n\n\n\n\n\n\nParticipating Wineries\n\n\n\nBingham Family VineyardsBull Lion Ranch WineryCross Timbers WineryGrape Vine Springs WineryHousewife RebellionLandon WineryMessina Hof WineryRed Dirt CellarsWinestein’s \n\n\n\n\n\n\n\nFeatured Galleries & Studios\n\n\n\nA Touch of Paris Art GalleryGiddens Gallery of Fine ArtHolder Dane Gallery & Art StudiosVetro Glassblowing StudioThe Foundry & Gallery at GrapevineIPAT Museum of Porcelain ArtRTown Art Gallery \n\n\n\n\n\n\n\n\n\nPlan Your Day to Visit Bingham\n\n\n\nGuests are encouraged to arrive early to enjoy the Blessing of the Vines ceremony at 10:20 a.m.\, which kicks off the day’s festivities. \n\n\n\n\n\n\n\nEvent Information & Tickets\n\n\n\n\n\n\n\nTickets\n\n\n\n\n\n\n\nFor questions\, contact Grapevine Visitor Information at 817-410-3185 or email VisitorInfo@GrapevineTexasUSA.com.
URL:https://binghamfamilyvineyards.com/event/grapevine-spring-wine-trail-2026/
LOCATION:Bingham Family Vineyards Grapevine\, 620 S Main St\, Grapevine\, TX\, 76051\, United States
CATEGORIES:Grapevine
ATTACH;FMTTYPE=image/jpeg:https://binghamfamilyvineyards.com/wp-content/uploads/2022/09/180929_Grapevine_018-scaled.jpg
ORGANIZER;CN="Grapevine Convention & Visitors Bureau":MAILTO:visitorinfo@grapevinetexasusa.com
GEO:32.935124;-97.078523
X-APPLE-STRUCTURED-LOCATION;VALUE=URI;X-ADDRESS=Bingham Family Vineyards Grapevine 620 S Main St Grapevine TX 76051 United States;X-APPLE-RADIUS=500;X-TITLE=620 S Main St:geo:-97.078523,32.935124
END:VEVENT
BEGIN:VEVENT
DTSTART;TZID=America/Chicago:20260417T000000
DTEND;TZID=America/Chicago:20260417T235959
DTSTAMP:20260422T011714
CREATED:20260302T223841Z
LAST-MODIFIED:20260302T224217Z
UID:10000369-1776384000-1776470399@binghamfamilyvineyards.com
SUMMARY:Wine & Wildflower Journey - last day
DESCRIPTION:March 23 – April 17\, 2026\n\n\n\nThe weather is warm\, the wildflowers are stretching toward the sun\, and the Texas Hill Country begins its most colorful season. Spring is calling\, and so is the Wine & Wildflower Journey. \n\n\n\nFrom March 23 through April 17\, 2026\, you’re invited to explore the beauty of the Hill Country while sipping and sampling award-winning wines at unique participating wineries. Whether you visit for a single day or savor the full twenty-six-day experience\, this self-guided passport gives you the freedom to travel at your own pace. \n\n\n\n\n\n\n\nMake Bingham Family Vineyards – Hyea Stop on Your Journey\n\n\n\nAs you wind through bluebonnet-lined roads and rolling vineyard views\, we invite you to include Bingham Family Vineyards in Hye on your itinerary. \n\n\n\nAt our Hye tasting room\, you’ll enjoy wines crafted from 100% estate-grown grapes from the Texas High Plains. It’s a beautiful contrast — High Plains fruit expressed in the heart of the Hill Country. \n\n\n\nPause\, relax\, and let the season unfold in your glass. \n\n\n\n\n\n\n\nReservations\n\n\n\n\n\n\n\nWhat to Expect\n\n\n\n\n\n\n\n\n\n\nValid March 23 – April 17\, 2026\n\n\n\nSelf-guided tasting experience at participating Hill Country wineries\n\n\n\nThe perfect way to celebrate spring\, wildflowers\, and Texas wine\n\n\n\nFlexible scheduling — visit one winery or plan a full weekend adventure\n\n\n\n\nBring a friend\, plan a getaway\, or make it a spring tradition. \n\n\n\n\n\n\n\n\n\nTickets & More Information\n\n\n\nPurchase your passport and view participating wineries here:https://texashillcountrywineries.org/products/wine-wildflower-journey-passport-2026-passesWe look forward to welcoming you to Hye this spring. 🌿🍷
URL:https://binghamfamilyvineyards.com/event/wine-wildflower-journey-last-day/
LOCATION:Bingham Family Vineyards Hye\, 11157 US-290\, Hye\, TX\, 78635\, United States
CATEGORIES:Hye
ATTACH;FMTTYPE=image/png:https://binghamfamilyvineyards.com/wp-content/uploads/2026/03/wwj-26-8.png
END:VEVENT
END:VCALENDAR