BEGIN:VCALENDAR
VERSION:2.0
PRODID:-//Bingham Family Vineyards - ECPv6.15.20//NONSGML v1.0//EN
CALSCALE:GREGORIAN
METHOD:PUBLISH
X-ORIGINAL-URL:https://binghamfamilyvineyards.com
X-WR-CALDESC:Events for Bingham Family Vineyards
REFRESH-INTERVAL;VALUE=DURATION:PT1H
X-Robots-Tag:noindex
X-PUBLISHED-TTL:PT1H
BEGIN:VTIMEZONE
TZID:America/Chicago
BEGIN:DAYLIGHT
TZOFFSETFROM:-0600
TZOFFSETTO:-0500
TZNAME:CDT
DTSTART:20220313T080000
END:DAYLIGHT
BEGIN:STANDARD
TZOFFSETFROM:-0500
TZOFFSETTO:-0600
TZNAME:CST
DTSTART:20221106T070000
END:STANDARD
BEGIN:DAYLIGHT
TZOFFSETFROM:-0600
TZOFFSETTO:-0500
TZNAME:CDT
DTSTART:20230312T080000
END:DAYLIGHT
BEGIN:STANDARD
TZOFFSETFROM:-0500
TZOFFSETTO:-0600
TZNAME:CST
DTSTART:20231105T070000
END:STANDARD
BEGIN:DAYLIGHT
TZOFFSETFROM:-0600
TZOFFSETTO:-0500
TZNAME:CDT
DTSTART:20240310T080000
END:DAYLIGHT
BEGIN:STANDARD
TZOFFSETFROM:-0500
TZOFFSETTO:-0600
TZNAME:CST
DTSTART:20241103T070000
END:STANDARD
END:VTIMEZONE
BEGIN:VEVENT
DTSTART;TZID=America/Chicago:20230501T000000
DTEND;TZID=America/Chicago:20230501T235959
DTSTAMP:20260420T070759
CREATED:20230327T213026Z
LAST-MODIFIED:20230327T220349Z
UID:10000061-1682899200-1682985599@binghamfamilyvineyards.com
SUMMARY:North Texas Wine Country - Spring Wine Trail 2023
DESCRIPTION:Join us at our Grapevine Location for the North Texas Wineries Spring Wine Trail the entire month of May! \n\n\n\n\n\n\n\n\n\n\n\n35+ wineries in the North Texas Wine Country welcome you to each of their unique tasting rooms for a special tasting of award-winning wines during the entire month of May! Wine tastings include a minimum of 3 tastes at each winery. Visit a few or visit all wineries during the month of May and taste up over 100 wines made in the beautiful North Texas Wine Country! Scan your printed or digital QR code at your first winery visit to check-in and redeem your wine tasting passport. Tickets are emailed upon purchase. \n\n\n\nWine Trail Terms And Conditions: \n\n\n\nVisit northtexaswine.com/wineries during the month of each wine trail event to find a list of participating wineries. \n\n\n\nTickets are Non-Refundable. \n\n\n\nDigital Ticket QR Code must be presented at winery to receive wine tastings at each participating winery. \n\n\n\nValid ID required at each participating winery. \n\n\n\nReservations for tastings are required at some wineries. Please check with each winery before visiting. \n\n\n\nDuring the month of wine trail events\, individual wineries may be hosting additional events separate from the wine trail event at their location. Additional fees may apply\, please check with individual wineries for fees if interested in individual winery events. \n\n\n\nPets are not allowed at some wineries\, please check with each winery before bringing your pet. \n\n\n\nNTWC Event tickets are meant for individual use\, not for use in conjunction with a wine tour company who already has tasting prices set with individual Wineries for services rendered. \n\n\n\nBe safe. Please have a Designated Driver for your trail trips. \n\n\n\n\nBuy Tickets\n\n\n\n\n\n\n\n\nOur tasting room is always busier during wine trail days\, so make a reservation to ensure a pleasant experience with us.
URL:https://binghamfamilyvineyards.com/event/north-texas-wine-country-spring-wine-trail-2023/
LOCATION:Bingham Family Vineyards Grapevine\, 620 S Main St\, Grapevine\, TX\, 76051\, United States
CATEGORIES:Grapevine
ATTACH;FMTTYPE=image/png:https://binghamfamilyvineyards.com/wp-content/uploads/2023/03/NTWCountrySpringTrail23.png
GEO:32.935124;-97.078523
X-APPLE-STRUCTURED-LOCATION;VALUE=URI;X-ADDRESS=Bingham Family Vineyards Grapevine 620 S Main St Grapevine TX 76051 United States;X-APPLE-RADIUS=500;X-TITLE=620 S Main St:geo:-97.078523,32.935124
END:VEVENT
BEGIN:VEVENT
DTSTART;TZID=America/Chicago:20230518T000000
DTEND;TZID=America/Chicago:20230520T235959
DTSTAMP:20260420T070759
CREATED:20230513T210044Z
LAST-MODIFIED:20230513T210508Z
UID:10000067-1684368000-1684627199@binghamfamilyvineyards.com
SUMMARY:Women for WineSense Texas Tour 2023
DESCRIPTION:Wine\, Dine and Shine in Texas Hill Country\, May 18-20\, 2023Join us along with wine enthusiasts and professionals for a three-day weekend in Fredericksburg in the heart of the Texas Hill Country wine region. \n\n\n\nWe will spend the day visiting three local wineries for tours and tastings in the Texas Hill Country. Our morning begins with our assigned groups visiting either William Chris Vineyards or Hilmy Cellars. Our entire group will reconvene at Becker Vineyards for a special tasting and tour along with an amazing lunch. After lunch\, our respective groups we will continue on to visit the winery we didn’t get to enjoy in the morning. \n\n\n\nBingham Family Vineyards will be serving wine at the Welcome Reception on Thursday. Marissa Bingham Dobson will be one of the speakers at the conference on Saturday. \n\n\n\nThursday\, May 18\, 2023Welcome Reception | 5:00 PM – 8:00 PM\n\n\n\nA walk around tasting from multiple wineries from across the state of Texas with a focus on Texas Hill Country.  The reception will be held at the Fredericksburg Inn & Suites. \n\n\n\nFriday\, May 19\, 2023Winery/Vineyard Experiences\n\n\n\nWe will spend the day visiting three local wineries for tours and tastings in the Texas Hill Country.  Our morning begins with our assigned groups visiting either William Chris Vineyards or Hilmy Cellars.  Our entire group will reconvene at Becker Vineyards for a special tasting and tour along with an amazing lunch.  After lunch\, our respective groups we will continue on to visit the winery we didn’t get to enjoy in the morning.  \n\n\n\nSaturday\, May 20\, 2023Educational Sessions | 9:30 AM – 4:00 PM\n\n\n\nAttend seminars lead by four exceptional wine experts in the Texas wine industry.  Our seminar topics and speakers include: The History of the Texas Hill Country AVA and the New Texas Grape and Wine Institute with Susan Auler from Fall Creek Vineyards;  Lone Star State of Mind: Texas Wines and Stories that Inspire with Shelly Wilfong from the This is Texas Wine podcast; Characteristics of Texas AVAs with Comparative Wine Tasting with Ed Hellman\, Professor of Viticulture and Enology at Texas Tech University; and The Evolution of Texas Wines – See How Far We’ve Come! with Maureen Qualia\, Enology  Lecturer at Texas Tech University. The Master of Ceremonies for our seminars is Amy Gross\, CEO of Vine Sleuth and our new Women For WineSense National President. \n\n\n\nSaturday\, May 20\, 2023Lunch | 12 – 2 PM\n\n\n\nWe will attend a multi-course catered lunch at Fredericksburg Inn & Suites between our morning and afternoon Educational Sessions. We will host a Texas Women In Wine panel with Marissa Bingham Dodson\, Winery Manager at Bingham Family Vineyards; Rachel Fanning\, Winemaker at Augusta Vin Winery and Vineyards; and Benedicte Rhyne\, Winemaker at Kulhman Cellars and creator of Educational Journey during our luncheon. Karla Barber\, Past President of Women For WineSense will be the panel moderator. \n\n\n\nSaturday\, May 20\, 2023Dinner | 6:30 PM\n\n\n\nWe will hold a farewell dinner at Feast & Merriment with local foods and more sampling Texas wines.  A great time for networking and social interactions.
URL:https://binghamfamilyvineyards.com/event/women-for-winesense-texas-tour-2023/
LOCATION:Fredericksburg Inn and Suites\, 201 South Washington Street\, Fredericksburg\, Texas\, 78624
CATEGORIES:Festivals
ATTACH;FMTTYPE=image/png:https://binghamfamilyvineyards.com/wp-content/uploads/2023/05/WomeForWineSenseTexas.png
ORGANIZER;CN="Women for WineSense":MAILTO:info@womenforwinesense.org
END:VEVENT
BEGIN:VEVENT
DTSTART;TZID=America/Chicago:20230519T000000
DTEND;TZID=America/Chicago:20230519T235959
DTSTAMP:20260420T070759
CREATED:20230106T224604Z
LAST-MODIFIED:20230203T055629Z
UID:10000044-1684454400-1684540799@binghamfamilyvineyards.com
SUMMARY:Main Street Fest - A Craft Brew Experience 2023
DESCRIPTION:Main Street Fest is a celebration of craft brews and family fun. Join us for the 39th Annual Main Street Fest on May 19-21\, 2023!\n\n\n\n\n\n\n\nThousands of guests enjoy three fun-filled days of breath-taking shows\, a Craft Brew Experience\, live music\, and tons of delicious festival food each year. Main Street Fest is a family-friendly event that you do not want to miss out on.  \n\n\n\nWhile you are there make sure that you come it by our tasting room under the unicorn at the Convention & Visitors Bureau building.  \n\n\n\nWe will share more information with you as we receive it.
URL:https://binghamfamilyvineyards.com/event/main-street-fest-a-craft-brew-experience-2023/2023-05-19/
LOCATION:Bingham Family Vineyards Grapevine\, 620 S Main St\, Grapevine\, TX\, 76051\, United States
CATEGORIES:Grapevine
ATTACH;FMTTYPE=image/jpeg:https://binghamfamilyvineyards.com/wp-content/uploads/2023/01/MainStreetFest2023.jpg
ORGANIZER;CN="Grapevine Convention & Visitors Bureau":MAILTO:visitorinfo@grapevinetexasusa.com
GEO:32.935124;-97.078523
X-APPLE-STRUCTURED-LOCATION;VALUE=URI;X-ADDRESS=Bingham Family Vineyards Grapevine 620 S Main St Grapevine TX 76051 United States;X-APPLE-RADIUS=500;X-TITLE=620 S Main St:geo:-97.078523,32.935124
END:VEVENT
BEGIN:VEVENT
DTSTART;TZID=America/Chicago:20230520T000000
DTEND;TZID=America/Chicago:20230520T235959
DTSTAMP:20260420T070759
CREATED:20230106T224604Z
LAST-MODIFIED:20230203T055629Z
UID:10000045-1684540800-1684627199@binghamfamilyvineyards.com
SUMMARY:Main Street Fest - A Craft Brew Experience 2023
DESCRIPTION:Main Street Fest is a celebration of craft brews and family fun. Join us for the 39th Annual Main Street Fest on May 19-21\, 2023!\n\n\n\n\n\n\n\nThousands of guests enjoy three fun-filled days of breath-taking shows\, a Craft Brew Experience\, live music\, and tons of delicious festival food each year. Main Street Fest is a family-friendly event that you do not want to miss out on.  \n\n\n\nWhile you are there make sure that you come it by our tasting room under the unicorn at the Convention & Visitors Bureau building.  \n\n\n\nWe will share more information with you as we receive it.
URL:https://binghamfamilyvineyards.com/event/main-street-fest-a-craft-brew-experience-2023/2023-05-20/
LOCATION:Bingham Family Vineyards Grapevine\, 620 S Main St\, Grapevine\, TX\, 76051\, United States
CATEGORIES:Grapevine
ATTACH;FMTTYPE=image/jpeg:https://binghamfamilyvineyards.com/wp-content/uploads/2023/01/MainStreetFest2023.jpg
ORGANIZER;CN="Grapevine Convention & Visitors Bureau":MAILTO:visitorinfo@grapevinetexasusa.com
GEO:32.935124;-97.078523
X-APPLE-STRUCTURED-LOCATION;VALUE=URI;X-ADDRESS=Bingham Family Vineyards Grapevine 620 S Main St Grapevine TX 76051 United States;X-APPLE-RADIUS=500;X-TITLE=620 S Main St:geo:-97.078523,32.935124
END:VEVENT
BEGIN:VEVENT
DTSTART;TZID=America/Chicago:20230521T000000
DTEND;TZID=America/Chicago:20230521T235959
DTSTAMP:20260420T070759
CREATED:20230106T224604Z
LAST-MODIFIED:20230203T055629Z
UID:10000046-1684627200-1684713599@binghamfamilyvineyards.com
SUMMARY:Main Street Fest - A Craft Brew Experience 2023
DESCRIPTION:Main Street Fest is a celebration of craft brews and family fun. Join us for the 39th Annual Main Street Fest on May 19-21\, 2023!\n\n\n\n\n\n\n\nThousands of guests enjoy three fun-filled days of breath-taking shows\, a Craft Brew Experience\, live music\, and tons of delicious festival food each year. Main Street Fest is a family-friendly event that you do not want to miss out on.  \n\n\n\nWhile you are there make sure that you come it by our tasting room under the unicorn at the Convention & Visitors Bureau building.  \n\n\n\nWe will share more information with you as we receive it.
URL:https://binghamfamilyvineyards.com/event/main-street-fest-a-craft-brew-experience-2023/2023-05-21/
LOCATION:Bingham Family Vineyards Grapevine\, 620 S Main St\, Grapevine\, TX\, 76051\, United States
CATEGORIES:Grapevine
ATTACH;FMTTYPE=image/jpeg:https://binghamfamilyvineyards.com/wp-content/uploads/2023/01/MainStreetFest2023.jpg
ORGANIZER;CN="Grapevine Convention & Visitors Bureau":MAILTO:visitorinfo@grapevinetexasusa.com
GEO:32.935124;-97.078523
X-APPLE-STRUCTURED-LOCATION;VALUE=URI;X-ADDRESS=Bingham Family Vineyards Grapevine 620 S Main St Grapevine TX 76051 United States;X-APPLE-RADIUS=500;X-TITLE=620 S Main St:geo:-97.078523,32.935124
END:VEVENT
BEGIN:VEVENT
DTSTART;TZID=America/Chicago:20230527T100000
DTEND;TZID=America/Chicago:20230527T140000
DTSTAMP:20260420T070759
CREATED:20221231T180124Z
LAST-MODIFIED:20221231T180129Z
UID:10000039-1685181600-1685196000@binghamfamilyvineyards.com
SUMMARY:Wolfforth Famers Market
DESCRIPTION:This Week at the Market\n\n\n\nThanksgiving Market – The 6th Annual Thanksgiving Market will be on November 19 this year. This is a time when our customers come to the market with family and friends looking for food and drinks\, home décor\, clothing\, accessories\, and handcrafted items for their Thanksgiving Day celebration. \n\n\n\n\n\n\n\nWolfforth Farmers Market \n\n\n\nWolfforth Farmers Market offers a year-round indoor/outdoor shopping venue for our customers in a convenient\, semi-rural location on our family farm. They strive to have high quality\, locally-grown seasonal produce\, locally-raised meats and eggs\, and other farm-based products available for our customers to purchase\, supporting our local growers and producers. \n\n\n\nOur Wines \n\n\n\nAt the Wolfforth Farmers Market\, we show case 4 to 5 of our wines\, but if you wish to purchase any other wines you may do so by calling our winery office or making a purchase on our web site. If making a purchase on our web site leave a message or call our  winery office at (806) 585-6616 to request us to bring your wines to the market for pickup on Saturday. \n\n\n\n\n\n\n\nOther Vendors \n\n\n\nThe Wolfforth Farmers Market also have a wonderful group of vendors that sell their baked goods\, handmade items\, and some ready-to-eat foods from local food trucks. In colder months\, we strive to offer those fresh items that our local growers and producers are still able to provide\, along with even more quality baked goods and crafts\, especially during the holidays.  \n\n\n\n\n\n\n\nProduce And More\n\n\n\nIn addition to fresh farm products\, There are local certified cottage bakers and crafters the opportunity to sell their items at our market year-round. The Wolfforth Farmers Market are pleased to offer their high-quality items for sale to enhance the market experience for our customers\, and some of these vendors also take special orders\, including large orders\, throughout the year\, especially during the holidays. \n\n\n\nAt the present time\, the bakers usually offer a variety of baked goods for many diets\, including Gluten-free\, Vegan\, and Keto-friendly items\, along with traditional baked items to provide more options to customers that may have specific dietary needs.
URL:https://binghamfamilyvineyards.com/event/wolfforth-famers-market-22/
LOCATION:Wolfforth Farmers Market\, 8924 County Rd 7100\, Wolfforth\, Texas\, 79382
ATTACH;FMTTYPE=image/jpeg:https://binghamfamilyvineyards.com/wp-content/uploads/2019/11/20.05.16_WolfforthFarmersMarket_001-1200x67516x9-1.jpg
GEO:33.5200719;-102.0156688
X-APPLE-STRUCTURED-LOCATION;VALUE=URI;X-ADDRESS=Wolfforth Farmers Market 8924 County Rd 7100 Wolfforth Texas 79382;X-APPLE-RADIUS=500;X-TITLE=8924 County Rd 7100:geo:-102.0156688,33.5200719
END:VEVENT
BEGIN:VEVENT
DTSTART;TZID=America/Chicago:20230529T000000
DTEND;TZID=America/Chicago:20230529T235959
DTSTAMP:20260420T070759
CREATED:20230527T172122Z
LAST-MODIFIED:20230527T172505Z
UID:10000068-1685318400-1685404799@binghamfamilyvineyards.com
SUMMARY:Memorial Day Weekend with Bingham Family Vineyards
DESCRIPTION:Come visit one of our locations to buy wine for your holiday celebrations. Our wine tastings and new flavor profiles willhelp you to make those choices. Making a reservation is good for weekends and for holidays at all of our locations. \n\n\n\nAt Hye\, you can visit with the Dirt Farmer\, as Cliff Bingham will be there to work in the vineyard. He may have to go home to the farm at some point since the rain in the High Plains have accelerated his planting plans for the row crops. \n\n\n\n\n\n\n\n\n\n\n\nor try out our new outdoor area where you can enjoy our wine as well as pizza and chocolates. \n\n\n\n\nReservations at Hye\, Texas\n\n\n\n\n\n\n\n\nOr visit our Grapevine location located close to the train depot and the Grapevine Visitors Center. There are so many activities to do in Grapevine\, Texas\, making it a great place to bring your visiting relatives. \n\n\n\n\nReservations at Grapevine\, Texas\n\n\n\n\n\n\n\n\nEnjoy your holiday\, but take a moment to remember the fallen who gave their lives that we might live in freedom. \n\n\n\nBlessings\,Betty
URL:https://binghamfamilyvineyards.com/event/memorial-day-weekend-with-bingham-family-vineyards/
LOCATION:Bingham Family Vineyards Hye\, 11157 US-290\, Hye\, TX\, 78635\, United States
CATEGORIES:Holidays
ATTACH;FMTTYPE=image/png:https://binghamfamilyvineyards.com/wp-content/uploads/2023/05/Memorial-Day-Post-Photo.png
ORGANIZER;CN="Bingham Family Vineyards":MAILTO:friends@Bingham.wine
END:VEVENT
END:VCALENDAR