BEGIN:VCALENDAR
VERSION:2.0
PRODID:-//Bingham Family Vineyards - ECPv6.15.20//NONSGML v1.0//EN
CALSCALE:GREGORIAN
METHOD:PUBLISH
X-ORIGINAL-URL:https://binghamfamilyvineyards.com
X-WR-CALDESC:Events for Bingham Family Vineyards
REFRESH-INTERVAL;VALUE=DURATION:PT1H
X-Robots-Tag:noindex
X-PUBLISHED-TTL:PT1H
BEGIN:VTIMEZONE
TZID:America/Chicago
BEGIN:DAYLIGHT
TZOFFSETFROM:-0600
TZOFFSETTO:-0500
TZNAME:CDT
DTSTART:20220313T080000
END:DAYLIGHT
BEGIN:STANDARD
TZOFFSETFROM:-0500
TZOFFSETTO:-0600
TZNAME:CST
DTSTART:20221106T070000
END:STANDARD
BEGIN:DAYLIGHT
TZOFFSETFROM:-0600
TZOFFSETTO:-0500
TZNAME:CDT
DTSTART:20230312T080000
END:DAYLIGHT
BEGIN:STANDARD
TZOFFSETFROM:-0500
TZOFFSETTO:-0600
TZNAME:CST
DTSTART:20231105T070000
END:STANDARD
BEGIN:DAYLIGHT
TZOFFSETFROM:-0600
TZOFFSETTO:-0500
TZNAME:CDT
DTSTART:20240310T080000
END:DAYLIGHT
BEGIN:STANDARD
TZOFFSETFROM:-0500
TZOFFSETTO:-0600
TZNAME:CST
DTSTART:20241103T070000
END:STANDARD
END:VTIMEZONE
BEGIN:VEVENT
DTSTART;TZID=America/Chicago:20230910T183000
DTEND;TZID=America/Chicago:20230910T193000
DTSTAMP:20260421T065443
CREATED:20230907T144015Z
LAST-MODIFIED:20230907T144118Z
UID:10000084-1694370600-1694374200@binghamfamilyvineyards.com
SUMMARY:Flavor Profile Wine Class at Bingham Family Vineyards Grapevine
DESCRIPTION:Do you know what wines you like?Discover your wine palate with our wine education class focused on discovering your palate and personalized flavor profile!  \n\n\n\nWine tasting is a fascinating journey that allows you to explore your senses and preferences. In this class\, you will cover the basics of wine tasting and understanding your own palate better. Throughout the class\, you will engage in interactive tastings\, discussions\, and exercises to enhance your understanding and appreciation of wine.  \n\n\n\n\n\n\n\n\n\n\n\nRemember\, tasting wine is a subjective experience\, so embrace your own unique preferences and enjoy the exploration of your unique palate! \n\n\n\nThis class will be available on the first and second Sundays for the month of September at 6:30 pm in our Grapevine location.Make your reservation today. \n\n\n\n\n\n\n\n\n\n\n\n\n\n\n\nEach month you will focus on a different aspect of our wine profile quiz to help you discover which wines to explore next. Those aspects include: sweetness\, intensity\, fruit\, oak\, spice\, floral\, acidity\, and minerality. \n\n\n\nSo\, take the class each month to learn more about tasting wine. \n\n\n\n\n\n\n\n\n\n\n\nFruit for August\n\n\n\nThe month of September will focus on “fruit”. Wine flavors come from aroma compounds —stereoisomers\, as scientists call them— that are released during fermentation. This is why when you smell wine\, the alcohol volatilizes (evaporates into the air) and carries these lighter-than-air aroma compounds into your nose.  \n\n\n\nEach wine can contain hundreds of different aroma compounds and each compound can have a different effect on the wine’s flavor. Our brains have multiple response to one stereoisomer. For example\, the lychee fruit flavor in Gewürztraminer can also smell like roses. \n\n\n\nLearn more about the concept of fruit in wine while exploring 100% Texas grown wines produced by the Bingham team.  \n\n\n\n\nChoose your Wines by flavor\n\n\n\n\n\n\n\n\nThere is no app to download\, you will view the quiz in a web page which will take you directly to the wines you choose on our web site for easy purchase whether you choose to pickup at one of our locations or have them shipped to you. \n\n\n\nIf you can’t make it to Grapevine for the class\, sign up for our newsletter where we give you information on the flavor aspects each month.
URL:https://binghamfamilyvineyards.com/event/flavor-profile-wine-class-at-bingham-family-vineyards-grapevine-5/
LOCATION:Bingham Family Vineyards Grapevine\, 620 S Main St\, Grapevine\, TX\, 76051\, United States
CATEGORIES:Grapevine
ATTACH;FMTTYPE=image/png:https://binghamfamilyvineyards.com/wp-content/uploads/2023/06/Wine-Flavor-Education-Class.png
ORGANIZER;CN="Bingham Family Vineyards%2C Grapevine":MAILTO:Grapevine@Bingham.wine
GEO:32.935124;-97.078523
X-APPLE-STRUCTURED-LOCATION;VALUE=URI;X-ADDRESS=Bingham Family Vineyards Grapevine 620 S Main St Grapevine TX 76051 United States;X-APPLE-RADIUS=500;X-TITLE=620 S Main St:geo:-97.078523,32.935124
END:VEVENT
BEGIN:VEVENT
DTSTART;TZID=America/Chicago:20230914T000000
DTEND;TZID=America/Chicago:20230914T235959
DTSTAMP:20260421T065443
CREATED:20221229T231212Z
LAST-MODIFIED:20230203T054332Z
UID:10000026-1694649600-1694735999@binghamfamilyvineyards.com
SUMMARY:GrapeFest 2023\, Day 1
DESCRIPTION:Join us for GrapeFeston September 14-17\, 2023\n\n\n\n\n\n\n\n\n\n\n\n\n\n\n\n\n\nGRAPEFEST® – A TEXAS WINE EXPERIENCE\n\n\n\n\n\n\n\nThe largest wine festival in the southwest takes place right in the heart of Grapevine\, Texas on September 14-17\, 2023.\n\n\n\n\n\n\n\nWith a variety of annual events\, wine tastings\, and even family-friendly activities\, you want to mark your calendars for GrapeFest. While GrapeFest does celebrate wine\, the annual festival takes pride in Texas wine. The People’s Choice Wine Tasting Classic is the largest consumer judged wine competition in the nation\, and exclusively features Texas wines. \n\n\n\nGrapeFest® is a celebration of Texas wines. Home to more than 400 wineries and 4\,400 acres of vineyards producing nearly three million gallons of Texas wine each year\, Texas is the fifth-largest wine-producing state in the United States. Grapevine is home to the Texas Wine & Grape Growers Association and Texas’ premier Urban Wine Trail\, featuring a variety of award-winning winery tasting rooms. \n\n\n\n\n\n\n\nCome visit the Bingham Family Vineyards Grapevine tasting room underneaththe unicorn at the Grapevine Convention & Visitors Bureau while your here!\n\n\n\n\n\n\n\nTHINGS TO DO\n\n\n\n\nGrapeFest offers a variety of Wine Experiences that include different wine tasting opportunities. Visit the Wine Experiences tab to learn more.\n\n\n\nThere are many annual events held in the spirit of GrapeFest. Visit the GrapeFest Events tab to learn more. \n\n\n\nGrapeFest is family-friendly! There are plenty of options for kids if you wish to bring them along. From the Carnival & Midway to the Kidz Zone\, there is something for everyone. Visit the Family Fun tab to learn more.
URL:https://binghamfamilyvineyards.com/event/grapefest-2023-day-1/
LOCATION:Bingham Family Vineyards Grapevine\, 620 S Main St\, Grapevine\, TX\, 76051\, United States
CATEGORIES:Grapevine
ATTACH;FMTTYPE=image/jpeg:https://binghamfamilyvineyards.com/wp-content/uploads/2019/09/Grapefest.jpg
ORGANIZER;CN="Grapevine Convention & Visitors Bureau":MAILTO:visitorinfo@grapevinetexasusa.com
GEO:32.935124;-97.078523
X-APPLE-STRUCTURED-LOCATION;VALUE=URI;X-ADDRESS=Bingham Family Vineyards Grapevine 620 S Main St Grapevine TX 76051 United States;X-APPLE-RADIUS=500;X-TITLE=620 S Main St:geo:-97.078523,32.935124
END:VEVENT
BEGIN:VEVENT
DTSTART;TZID=America/Chicago:20230915T000000
DTEND;TZID=America/Chicago:20230915T235959
DTSTAMP:20260421T065443
CREATED:20230203T054846Z
LAST-MODIFIED:20230203T054944Z
UID:10000052-1694736000-1694822399@binghamfamilyvineyards.com
SUMMARY:GrapeFest 2023\, Day 2
DESCRIPTION:Join us for GrapeFeston September 14-17\, 2023\n\n\n\n\n\n\n\n\n\n\n\n\n\n\n\n\n\nGRAPEFEST® – A TEXAS WINE EXPERIENCE\n\n\n\n\n\n\n\nThe largest wine festival in the southwest takes place right in the heart of Grapevine\, Texas on September 14-17\, 2023.\n\n\n\n\n\n\n\nWith a variety of annual events\, wine tastings\, and even family-friendly activities\, you want to mark your calendars for GrapeFest. While GrapeFest does celebrate wine\, the annual festival takes pride in Texas wine. The People’s Choice Wine Tasting Classic is the largest consumer judged wine competition in the nation\, and exclusively features Texas wines. \n\n\n\nGrapeFest® is a celebration of Texas wines. Home to more than 400 wineries and 4\,400 acres of vineyards producing nearly three million gallons of Texas wine each year\, Texas is the fifth-largest wine-producing state in the United States. Grapevine is home to the Texas Wine & Grape Growers Association and Texas’ premier Urban Wine Trail\, featuring a variety of award-winning winery tasting rooms. \n\n\n\n\n\n\n\nCome visit the Bingham Family Vineyards Grapevine tasting room underneaththe unicorn at the Grapevine Convention & Visitors Bureau while your here!\n\n\n\n\n\n\n\nTHINGS TO DO\n\n\n\n\nGrapeFest offers a variety of Wine Experiences that include different wine tasting opportunities. Visit the Wine Experiences tab to learn more.\n\n\n\nThere are many annual events held in the spirit of GrapeFest. Visit the GrapeFest Events tab to learn more. \n\n\n\nGrapeFest is family-friendly! There are plenty of options for kids if you wish to bring them along. From the Carnival & Midway to the Kidz Zone\, there is something for everyone. Visit the Family Fun tab to learn more.
URL:https://binghamfamilyvineyards.com/event/grapefest-2023-day-2/
LOCATION:Bingham Family Vineyards Grapevine\, 620 S Main St\, Grapevine\, TX\, 76051\, United States
CATEGORIES:Grapevine
ATTACH;FMTTYPE=image/jpeg:https://binghamfamilyvineyards.com/wp-content/uploads/2019/09/Grapefest.jpg
ORGANIZER;CN="Grapevine Convention & Visitors Bureau":MAILTO:visitorinfo@grapevinetexasusa.com
GEO:32.935124;-97.078523
X-APPLE-STRUCTURED-LOCATION;VALUE=URI;X-ADDRESS=Bingham Family Vineyards Grapevine 620 S Main St Grapevine TX 76051 United States;X-APPLE-RADIUS=500;X-TITLE=620 S Main St:geo:-97.078523,32.935124
END:VEVENT
BEGIN:VEVENT
DTSTART;TZID=America/Chicago:20230916T000000
DTEND;TZID=America/Chicago:20230916T235959
DTSTAMP:20260421T065443
CREATED:20230203T055011Z
LAST-MODIFIED:20230203T055014Z
UID:10000053-1694822400-1694908799@binghamfamilyvineyards.com
SUMMARY:GrapeFest 2023\, Day 3
DESCRIPTION:Join us for GrapeFeston September 14-17\, 2023\n\n\n\n\n\n\n\n\n\n\n\n\n\n\n\n\n\nGRAPEFEST® – A TEXAS WINE EXPERIENCE\n\n\n\n\n\n\n\nThe largest wine festival in the southwest takes place right in the heart of Grapevine\, Texas on September 14-17\, 2023.\n\n\n\n\n\n\n\nWith a variety of annual events\, wine tastings\, and even family-friendly activities\, you want to mark your calendars for GrapeFest. While GrapeFest does celebrate wine\, the annual festival takes pride in Texas wine. The People’s Choice Wine Tasting Classic is the largest consumer judged wine competition in the nation\, and exclusively features Texas wines. \n\n\n\nGrapeFest® is a celebration of Texas wines. Home to more than 400 wineries and 4\,400 acres of vineyards producing nearly three million gallons of Texas wine each year\, Texas is the fifth-largest wine-producing state in the United States. Grapevine is home to the Texas Wine & Grape Growers Association and Texas’ premier Urban Wine Trail\, featuring a variety of award-winning winery tasting rooms. \n\n\n\n\n\n\n\nCome visit the Bingham Family Vineyards Grapevine tasting room underneaththe unicorn at the Grapevine Convention & Visitors Bureau while your here!\n\n\n\n\n\n\n\nTHINGS TO DO\n\n\n\n\nGrapeFest offers a variety of Wine Experiences that include different wine tasting opportunities. Visit the Wine Experiences tab to learn more.\n\n\n\nThere are many annual events held in the spirit of GrapeFest. Visit the GrapeFest Events tab to learn more. \n\n\n\nGrapeFest is family-friendly! There are plenty of options for kids if you wish to bring them along. From the Carnival & Midway to the Kidz Zone\, there is something for everyone. Visit the Family Fun tab to learn more.
URL:https://binghamfamilyvineyards.com/event/grapefest-2023-day-3/
LOCATION:Bingham Family Vineyards Grapevine\, 620 S Main St\, Grapevine\, TX\, 76051\, United States
CATEGORIES:Grapevine
ATTACH;FMTTYPE=image/jpeg:https://binghamfamilyvineyards.com/wp-content/uploads/2019/09/Grapefest.jpg
ORGANIZER;CN="Grapevine Convention & Visitors Bureau":MAILTO:visitorinfo@grapevinetexasusa.com
GEO:32.935124;-97.078523
X-APPLE-STRUCTURED-LOCATION;VALUE=URI;X-ADDRESS=Bingham Family Vineyards Grapevine 620 S Main St Grapevine TX 76051 United States;X-APPLE-RADIUS=500;X-TITLE=620 S Main St:geo:-97.078523,32.935124
END:VEVENT
BEGIN:VEVENT
DTSTART;TZID=America/Chicago:20230917T000000
DTEND;TZID=America/Chicago:20230917T235959
DTSTAMP:20260421T065443
CREATED:20230203T055045Z
LAST-MODIFIED:20230203T055047Z
UID:10000054-1694908800-1694995199@binghamfamilyvineyards.com
SUMMARY:GrapeFest 2023\, Day 4
DESCRIPTION:Join us for GrapeFeston September 14-17\, 2023\n\n\n\n\n\n\n\n\n\n\n\n\n\n\n\n\n\nGRAPEFEST® – A TEXAS WINE EXPERIENCE\n\n\n\n\n\n\n\nThe largest wine festival in the southwest takes place right in the heart of Grapevine\, Texas on September 14-17\, 2023.\n\n\n\n\n\n\n\nWith a variety of annual events\, wine tastings\, and even family-friendly activities\, you want to mark your calendars for GrapeFest. While GrapeFest does celebrate wine\, the annual festival takes pride in Texas wine. The People’s Choice Wine Tasting Classic is the largest consumer judged wine competition in the nation\, and exclusively features Texas wines. \n\n\n\nGrapeFest® is a celebration of Texas wines. Home to more than 400 wineries and 4\,400 acres of vineyards producing nearly three million gallons of Texas wine each year\, Texas is the fifth-largest wine-producing state in the United States. Grapevine is home to the Texas Wine & Grape Growers Association and Texas’ premier Urban Wine Trail\, featuring a variety of award-winning winery tasting rooms. \n\n\n\n\n\n\n\nCome visit the Bingham Family Vineyards Grapevine tasting room underneaththe unicorn at the Grapevine Convention & Visitors Bureau while your here!\n\n\n\n\n\n\n\nTHINGS TO DO\n\n\n\n\nGrapeFest offers a variety of Wine Experiences that include different wine tasting opportunities. Visit the Wine Experiences tab to learn more.\n\n\n\nThere are many annual events held in the spirit of GrapeFest. Visit the GrapeFest Events tab to learn more. \n\n\n\nGrapeFest is family-friendly! There are plenty of options for kids if you wish to bring them along. From the Carnival & Midway to the Kidz Zone\, there is something for everyone. Visit the Family Fun tab to learn more.
URL:https://binghamfamilyvineyards.com/event/grapefest-2023-day-4/
LOCATION:Bingham Family Vineyards Grapevine\, 620 S Main St\, Grapevine\, TX\, 76051\, United States
CATEGORIES:Grapevine
ATTACH;FMTTYPE=image/jpeg:https://binghamfamilyvineyards.com/wp-content/uploads/2019/09/Grapefest.jpg
ORGANIZER;CN="Grapevine Convention & Visitors Bureau":MAILTO:visitorinfo@grapevinetexasusa.com
GEO:32.935124;-97.078523
X-APPLE-STRUCTURED-LOCATION;VALUE=URI;X-ADDRESS=Bingham Family Vineyards Grapevine 620 S Main St Grapevine TX 76051 United States;X-APPLE-RADIUS=500;X-TITLE=620 S Main St:geo:-97.078523,32.935124
END:VEVENT
END:VCALENDAR