BEGIN:VCALENDAR
VERSION:2.0
PRODID:-//Bingham Family Vineyards - ECPv6.15.20//NONSGML v1.0//EN
CALSCALE:GREGORIAN
METHOD:PUBLISH
X-ORIGINAL-URL:https://binghamfamilyvineyards.com
X-WR-CALDESC:Events for Bingham Family Vineyards
REFRESH-INTERVAL;VALUE=DURATION:PT1H
X-Robots-Tag:noindex
X-PUBLISHED-TTL:PT1H
BEGIN:VTIMEZONE
TZID:America/Chicago
BEGIN:DAYLIGHT
TZOFFSETFROM:-0600
TZOFFSETTO:-0500
TZNAME:CDT
DTSTART:20220313T080000
END:DAYLIGHT
BEGIN:STANDARD
TZOFFSETFROM:-0500
TZOFFSETTO:-0600
TZNAME:CST
DTSTART:20221106T070000
END:STANDARD
BEGIN:DAYLIGHT
TZOFFSETFROM:-0600
TZOFFSETTO:-0500
TZNAME:CDT
DTSTART:20230312T080000
END:DAYLIGHT
BEGIN:STANDARD
TZOFFSETFROM:-0500
TZOFFSETTO:-0600
TZNAME:CST
DTSTART:20231105T070000
END:STANDARD
BEGIN:DAYLIGHT
TZOFFSETFROM:-0600
TZOFFSETTO:-0500
TZNAME:CDT
DTSTART:20240310T080000
END:DAYLIGHT
BEGIN:STANDARD
TZOFFSETFROM:-0500
TZOFFSETTO:-0600
TZNAME:CST
DTSTART:20241103T070000
END:STANDARD
END:VTIMEZONE
BEGIN:VEVENT
DTSTART;TZID=America/Chicago:20231104T120000
DTEND;TZID=America/Chicago:20231104T170000
DTSTAMP:20260421T065403
CREATED:20230908T160803Z
LAST-MODIFIED:20231125T054701Z
UID:10000088-1699099200-1699117200@binghamfamilyvineyards.com
SUMMARY:Texas Wine Jam 2023\, Day 1
DESCRIPTION:Texas Wine JamDay 1\n\n\n\n\n\n\n\n This festival shines a light on leading Texas wineries and great local musicians that feed our soul and drive the “Cool” of Central Texas. It’s also about supporting two very impactful causes that support local music and local wineThe SIMS Foundation and Texas Wine Community Scholarships. \n\n\n\n\n\n\n\n\n\n\n\n\n\n\n\nTexas Wine Jam 2023\n\n\n\nSupporting live and local music is at the heart of this festival experience. Wineries will be offering exclusive deals and promotions on their wines for festival goers to splurge on. Think about it as one of the best Texas wine buying opportunities of the year. Each time a festival goer purchases a bottle they are automatically entered into a raffle to win one of several mixed cases of wine from wineries attending the festival or other special prizes provided by the festival’s Community Partners and Sponsors \n\n\n\n\n\n\n\n\nBuy Tickets Now!\n\n\n\n\n\n\n\n\nThe Music\n\n\n\nThere will be four live performances across the two days including Classic Rewind\, The Anthony Garcia Band\, Josh Klaus and Bubba Coltrane and The Train Wrecks. Known for their incredible guitar solos\, Classic Rewind is a pop classic rock band that covers music that spans from the 60’s on. \n\n\n\n The Anthony Garcia Band\, led by Anthony Garcia a Texas native\, is a classically trained pianist that performs music described as “Cinematic Americana\,” a genre that interweaves Garcia’s love of rock\, blues\, classical piano and Spanish Guitar. \n\n\n\nBased in Austin\, Texas\, Josh Klaus has been performing live for well over 20 years covering just about everything – – brand new\, super old\, fast\, slow\, male\, female\, pop\, rock\, R&B\, soul and country.  \n\n\n\nThe headlining band on Sunday is Bubba Coltrane and The Train Wrecks\, a fiery\, horn-infused rock band formed out of the diverse music scene of Austin\, Texas. Now a seven piece band that sports a two guitar attack\, a bull fiddle\, a guy named Bob banging on the drums\, and a three piece\, misfit horn section – they’re guaranteed to make you have a good time. \n\n\n\n\n\n\n\nThe Wine\n\n\n\nThe festival features a showcase of 22 (20 on each day of the festival) Texas wineries including12 Fires Winery\, Ab Astris Winery\,Adega Vinho Winery\,  Arché Winery & Vineyard\,Bingham Family Vineyards\, Blue Ostrich Winery\, Carter Creek Winery\, Crowson\,Farmhouse Vineyards\, Hye Meadow Winery\, Lewis Wines\, Lost Draw Cellars\, Pebble Rock Cellars\, Portree Cellars\, Ron Yates\, Torr Na Lochs\, Sandy Road Vineyards\,Texas Heritage Vineayard\, Siboney Cellars\, Tatum Cellars\, Vinovium\, and Westcave Cellars. \n\n\n\n\n\n\n\nTicket Information\n\n\n\n\n\n\n\nVIP Ticket Information\n\n\n\nVIP 1- Day Pass – $55VIP 2-Day Pass – $95Early Entry at 11 AMCommemorative Festival Glass & Wine Bottle KoozieAdditional 5 Raffle Tickets – a $25 value (win wine and other great prizes) \n\n\n\nGeneral Admission Ticket Information\n\n\n\nGeneral Admission 1-Day Pass – $45General Admission 2-Day Pass – $7512:00 PM EntryCommemorative Festival Glass \n\n\n\n\n\n\n\n\nBuy Tickets Now!\n\n\n\n\n\n\n\n\nRaffle Information\n\n\n\nFor every bottle of wine you purchase at the festival you are automatically entered into a raffle to win one of several mixed-cases of wine from wineries attending the festival.Read rules and conditions here. \n\n\n\nParking Information $5 per Car\n\n\n\n\nFree with Cereal or Condiment donation to Johnson City Food Pantry or equivalent value\n\n\n\n100% of any money collected from parking goes towards our fundraising goals\n\n\n\n\n\n\n\n\nWhat’s Included in Admission into the festival\n\n\n\nTastings from 20 wineriesFestival branded commemorative glass \n\n\n\nWhat You CAN Bring\n\n\n\nConcert-going gearLeashed dogsCash (credit cards welcome)21+ year of age \n\n\n\nWhat you CANNOT Bring\n\n\n\nOutside Food & Drink< 21 years of age \n\n\n\n\n\n\n\nOther Festival Features\n\n\n\nOther Festival features includea winemaker panel\, a cooking demonstration by the Hill Country’s very own Bon Vivant (JeriLynne Clifford)\, food from Rex’s Creole Kitchen\, Rex’s Smokehouse\, Oro Bianco\, River Whey Creamery and other local food and craft vendors. \n\n\n\nIn the event of inclement weather and this event needs to be rescheduled\, it will be rescheduled on November 11 and 12\, 2023 \n\n\n\n\n\n\n\n\nBuy Tickets Now!\n\n\n\n\n\n\n\n\nBenefiting\n\n\n\nFour-dollars from every ticket sold will be split between these two organizations. \n\n\n\nThe Texas Wine Community Scholarships was established in 2019 by Vinovium and the Wine & Food Foundation. These scholarships are funded by donations directly from Texas wine industry members. These academic scholarships are awarded to Texas residents enrolled in a school or college program related to and benefiting the Texas Wine Industry. \n\n\n\nThe SIMS Foundation provides mental health and substance use recovery services and support for musicians\, music industry professionals\, and their dependent family members. Through education\, community partnerships\, and accessible managed care\, SIMS seeks to destigmatize and reduce mental health and substance use issues\, while supporting and enhancing the wellbeing of the music community at large. \n\n\n\nCommunity Partners and Sponsors\n\n\n\nGo Texan\, The Wine & Food Foundation\, Frost Bank\, Texas Wine Growers\, HEB\, Wrenwood Ranch\, Texas Wine Lover\, Sommly and Map It Out Texas. \n\n\n\n\n\n\n\n\nBuy Tickets Now!\n\n\n\n\n\n\n\n\nRefund Policy / Inclement Weather\n\n\n\nTickets are 100% refundable until October 1 at 12pm50% refundable until October 22 at 12pm0% refundable after October 22
URL:https://binghamfamilyvineyards.com/event/texas-wine-jam-2023/
LOCATION:Vinovium\, 214 Edmonds Ave.\, Johnson City\, TX\, 78636
CATEGORIES:Festivals,Hye
ATTACH;FMTTYPE=image/png:https://binghamfamilyvineyards.com/wp-content/uploads/2023/09/TWJ-Post_Reel-16.png
END:VEVENT
BEGIN:VEVENT
DTSTART;TZID=America/Chicago:20231104T120000
DTEND;TZID=America/Chicago:20231104T180000
DTSTAMP:20260421T065403
CREATED:20230703T195831Z
LAST-MODIFIED:20231125T054246Z
UID:10000075-1699099200-1699120800@binghamfamilyvineyards.com
SUMMARY:Drink North Texas Wine Festival\, Saturday\, November 4th\, 2023
DESCRIPTION:Drink North Texas Wine Festival\n\n\n\n\n\n\n\n\n\n\n\n\n\n\n\n24 Award Winning Wineries –  \n\n\n\nTickets available in August
URL:https://binghamfamilyvineyards.com/event/drink-north-texas-wine-festival-saturday-november-4th-2023/
LOCATION:The Sound at Cypress Waters\, 3111 Olympus Blvd\, Dallas\, TX\, 75019
CATEGORIES:Festivals,Grapevine,Roanoke
ATTACH;FMTTYPE=image/png:https://binghamfamilyvineyards.com/wp-content/uploads/2023/07/Screenshot-2023-07-03-144311.png
END:VEVENT
BEGIN:VEVENT
DTSTART;TZID=America/Chicago:20231105T120000
DTEND;TZID=America/Chicago:20231105T170000
DTSTAMP:20260421T065403
CREATED:20230927T183134Z
LAST-MODIFIED:20231125T054421Z
UID:10000090-1699185600-1699203600@binghamfamilyvineyards.com
SUMMARY:Texas Wine Jam 2023\, Day 2
DESCRIPTION:Texas Wine JamDay 2\n\n\n\n\n\n\n\n This festival shines a light on leading Texas wineries and great local musicians that feed our soul and drive the “Cool” of Central Texas. It’s also about supporting two very impactful causes that support local music and local wineThe SIMS Foundation and Texas Wine Community Scholarships. \n\n\n\n\n\n\n\n\n\n\n\n\n\n\n\nTexas Wine Jam 2023\n\n\n\nSupporting live and local music is at the heart of this festival experience. Wineries will be offering exclusive deals and promotions on their wines for festival goers to splurge on. Think about it as one of the best Texas wine buying opportunities of the year. Each time a festival goer purchases a bottle they are automatically entered into a raffle to win one of several mixed cases of wine from wineries attending the festival or other special prizes provided by the festival’s Community Partners and Sponsors \n\n\n\n\n\n\n\n\nBuy Tickets Now!\n\n\n\n\n\n\n\n\nThe Music\n\n\n\nThere will be four live performances across the two days including Classic Rewind\, The Anthony Garcia Band\, Josh Klaus and Bubba Coltrane and The Train Wrecks. Known for their incredible guitar solos\, Classic Rewind is a pop classic rock band that covers music that spans from the 60’s on. \n\n\n\n The Anthony Garcia Band\, led by Anthony Garcia a Texas native\, is a classically trained pianist that performs music described as “Cinematic Americana\,” a genre that interweaves Garcia’s love of rock\, blues\, classical piano and Spanish Guitar. \n\n\n\nBased in Austin\, Texas\, Josh Klaus has been performing live for well over 20 years covering just about everything – – brand new\, super old\, fast\, slow\, male\, female\, pop\, rock\, R&B\, soul and country.  \n\n\n\nThe headlining band on Sunday is Bubba Coltrane and The Train Wrecks\, a fiery\, horn-infused rock band formed out of the diverse music scene of Austin\, Texas. Now a seven piece band that sports a two guitar attack\, a bull fiddle\, a guy named Bob banging on the drums\, and a three piece\, misfit horn section – they’re guaranteed to make you have a good time. \n\n\n\n\n\n\n\nThe Wine\n\n\n\nThe festival features a showcase of 22 (20 on each day of the festival) Texas wineries including12 Fires Winery\, Ab Astris Winery\,Adega Vinho Winery\,  Arché Winery & Vineyard\,Bingham Family Vineyards\, Blue Ostrich Winery\, Carter Creek Winery\, Crowson\,Farmhouse Vineyards\, Hye Meadow Winery\, Lewis Wines\, Lost Draw Cellars\, Pebble Rock Cellars\, Portree Cellars\, Ron Yates\, Torr Na Lochs\, Sandy Road Vineyards\,Texas Heritage Vineayard\, Siboney Cellars\, Tatum Cellars\, Vinovium\, and Westcave Cellars. \n\n\n\n\n\n\n\nTicket Information\n\n\n\n\n\n\n\nVIP Ticket Information\n\n\n\nVIP 1- Day Pass – $55VIP 2-Day Pass – $95Early Entry at 11 AMCommemorative Festival Glass & Wine Bottle KoozieAdditional 5 Raffle Tickets – a $25 value (win wine and other great prizes) \n\n\n\nGeneral Admission Ticket Information\n\n\n\nGeneral Admission 1-Day Pass – $45General Admission 2-Day Pass – $7512:00 PM EntryCommemorative Festival Glass \n\n\n\n\n\n\n\n\nBuy Tickets Now!\n\n\n\n\n\n\n\n\nRaffle Information\n\n\n\nFor every bottle of wine you purchase at the festival you are automatically entered into a raffle to win one of several mixed-cases of wine from wineries attending the festival.Read rules and conditions here. \n\n\n\nParking Information $5 per Car\n\n\n\n\nFree with Cereal or Condiment donation to Johnson City Food Pantry or equivalent value\n\n\n\n100% of any money collected from parking goes towards our fundraising goals\n\n\n\n\n\n\n\n\nWhat’s Included in Admission into the festival\n\n\n\nTastings from 20 wineriesFestival branded commemorative glass \n\n\n\nWhat You CAN Bring\n\n\n\nConcert-going gearLeashed dogsCash (credit cards welcome)21+ year of age \n\n\n\nWhat you CANNOT Bring\n\n\n\nOutside Food & Drink< 21 years of age \n\n\n\n\n\n\n\nOther Festival Features\n\n\n\nOther Festival features includea winemaker panel\, a cooking demonstration by the Hill Country’s very own Bon Vivant (JeriLynne Clifford)\, food from Rex’s Creole Kitchen\, Rex’s Smokehouse\, Oro Bianco\, River Whey Creamery and other local food and craft vendors. \n\n\n\nIn the event of inclement weather and this event needs to be rescheduled\, it will be rescheduled on November 11 and 12\, 2023 \n\n\n\n\n\n\n\n\nBuy Tickets Now!\n\n\n\n\n\n\n\n\nBenefiting\n\n\n\nFour-dollars from every ticket sold will be split between these two organizations. \n\n\n\nThe Texas Wine Community Scholarships was established in 2019 by Vinovium and the Wine & Food Foundation. These scholarships are funded by donations directly from Texas wine industry members. These academic scholarships are awarded to Texas residents enrolled in a school or college program related to and benefiting the Texas Wine Industry. \n\n\n\nThe SIMS Foundation provides mental health and substance use recovery services and support for musicians\, music industry professionals\, and their dependent family members. Through education\, community partnerships\, and accessible managed care\, SIMS seeks to destigmatize and reduce mental health and substance use issues\, while supporting and enhancing the wellbeing of the music community at large. \n\n\n\nCommunity Partners and Sponsors\n\n\n\nGo Texan\, The Wine & Food Foundation\, Frost Bank\, Texas Wine Growers\, HEB\, Wrenwood Ranch\, Texas Wine Lover\, Sommly and Map It Out Texas. \n\n\n\n\n\n\n\n\nBuy Tickets Now!\n\n\n\n\n\n\n\n\nRefund Policy / Inclement Weather\n\n\n\nTickets are 100% refundable until October 1 at 12pm50% refundable until October 22 at 12pm0% refundable after October 22
URL:https://binghamfamilyvineyards.com/event/texas-wine-jam-2023-day-2/
LOCATION:Vinovium\, 214 Edmonds Ave.\, Johnson City\, TX\, 78636
CATEGORIES:Festivals,Hye
ATTACH;FMTTYPE=image/png:https://binghamfamilyvineyards.com/wp-content/uploads/2023/09/TWJ-Post_Reel-16.png
END:VEVENT
BEGIN:VEVENT
DTSTART;TZID=America/Chicago:20231105T183000
DTEND;TZID=America/Chicago:20231105T193000
DTSTAMP:20260421T065403
CREATED:20231016T182904Z
LAST-MODIFIED:20231125T052750Z
UID:10000095-1699209000-1699212600@binghamfamilyvineyards.com
SUMMARY:Wine Flavor Class at Bingham Family Vineyards Grapevine
DESCRIPTION:Wine Flavor Class atBingham Family Vineyards Grapevine\n\n\n\n\n\n\n\nDo you know what wines you like?Discover your wine palate with our wine education class focused on discovering your palate and personalized flavor profile!  \n\n\n\nWine tasting is a fascinating journey that allows you to explore your senses and preferences. In this class\, you will cover the basics of wine tasting and understanding your own palate better. Throughout the class\, you will engage in interactive tastings\, discussions\, and exercises to enhance your understanding and appreciation of wine.  \n\n\n\n\n\n\n\n\n\n\n\nRemember\, tasting wine is a subjective experience\, so embrace your own unique preferences and enjoy the exploration of your unique palate! \n\n\n\nThis class will be available on most first\, second\, and third Sundays each month at 6:30 pm at our Grapevine location.Make your reservation today. \n\n\n\n\n\n\n\n\n\n\n\n\n\n\n\nEach month you will focus on a different aspect of our wine profile quiz to help you discover which wines to explore next. Those aspects include: sweetness\, intensity\, fruit\, oak\, spice\, floral\, acidity\, and minerality. \n\n\n\n\n\n\n\n\n\n\n\nSpice for November\n\n\n\nJust in time for the holidays\, the month of October will focus on “spice”. \n\n\n\nLearn more about the concept of spice in wine while exploring 100% Texas grown wines produced by the Bingham team.  \n\n\n\n\nChoose your Wines by flavor\n\n\n\n\n\n\n\n\nIf you can’t make it to Grapevine for the class\, sign up for our newsletter where we will give you information on the flavor aspects each month.
URL:https://binghamfamilyvineyards.com/event/wine-flavor-class-at-bingham-family-vineyards-grapevine/
LOCATION:Bingham Family Vineyards Grapevine\, 620 S Main St\, Grapevine\, TX\, 76051\, United States
CATEGORIES:Grapevine
ATTACH;FMTTYPE=image/png:https://binghamfamilyvineyards.com/wp-content/uploads/2023/06/Wine-Flavor-Education-Class.png
ORGANIZER;CN="Bingham Family Vineyards%2C Grapevine":MAILTO:Grapevine@Bingham.wine
GEO:32.935124;-97.078523
X-APPLE-STRUCTURED-LOCATION;VALUE=URI;X-ADDRESS=Bingham Family Vineyards Grapevine 620 S Main St Grapevine TX 76051 United States;X-APPLE-RADIUS=500;X-TITLE=620 S Main St:geo:-97.078523,32.935124
END:VEVENT
BEGIN:VEVENT
DTSTART;TZID=America/Chicago:20231106T180000
DTEND;TZID=America/Chicago:20231106T200000
DTSTAMP:20260421T065403
CREATED:20230916T033926Z
LAST-MODIFIED:20231125T052944Z
UID:10000089-1699293600-1699300800@binghamfamilyvineyards.com
SUMMARY:Texas Hill Country Wineries Fort Worth Road Show
DESCRIPTION:Texas Hill Country WineriesFort Worth Road Show\n\n\n\n\n\n\n\nJoin us for an evening of Hill Country Wine in Cowtown! Texas Hill Country Wineries is bringing 24 wineries and over 70 wines from the Hill Country to Fort Worth for an evening tasting experience. Come meet winery personalities including owners\, winemakers\, vineyard managers and more at Tannahill’s Tavern & Music Hall. \n\n\n\n\n\n\n\n\n\n\n\n\n\n\n\nGuests will experience Texas Hill Country wines at a walk-around tasting from 6-8 pm featuring hand picked wines from each participating winery. You’ll learn about what’s happening in the vineyard\, taste new wines\, and meet the heart and soul behind the Texas wineries right in your own backyard. \n\n\n\n\npurchase Tickets\n\n\n\n\n\n\n\n\nThe Bingham’s will be there pouring our 2019 Dirt Farmer\, 2022 Cloudburst\, and 2020 Reserve Tempranillo. Come visit with us and meet more of our friends from the Texas Hill Country. \n\n\n\nOther Friends from the Hill Country\n\n\n\nAb Astris Winery\, Becker Vineyards\, Bending Branch Winery\, Bent Oak Winery\,Bingham Family VineyardsDry Comal Creek VineyardsFall Creek Vineyard\, Farmhouse VineyardsFlat Creek Estate\, Hye Meadow WineryKerrville Hills Winery\, Kuhlman CellarsLewis Wines\, Lost Draw Cellars\, Messina Hof Hill Country WineryPedernales Cellars\, Pontotoc VineyardRon Yates\, Silver Dollar WinerySlate Theory Winery\, Spicewood VineyardsTexas Heritage Vineyard\, Wedding Oak WineryWilliam Chris Vineyards
URL:https://binghamfamilyvineyards.com/event/texas-hill-country-wineries-fort-worth-road-show/
LOCATION:Tannahill’s Tavern & Music Hall\, 122 E Exchange\, Suite 200\, Fort Worth\, Texas\, 76164
CATEGORIES:Festivals,Grapevine,Hye,Roanoke
ATTACH;FMTTYPE=image/png:https://binghamfamilyvineyards.com/wp-content/uploads/2023/09/Fort-Worth-Road-Show-Facebook-Cover.png
END:VEVENT
BEGIN:VEVENT
DTSTART;TZID=America/Chicago:20231111T080000
DTEND;TZID=America/Chicago:20231111T170000
DTSTAMP:20260421T065403
CREATED:20231111T213124Z
LAST-MODIFIED:20231125T053105Z
UID:10000102-1699689600-1699722000@binghamfamilyvineyards.com
SUMMARY:Veterans Day 2023
DESCRIPTION:Veterans Day 2023\n\n\n\n\n\n\n\nWe at Bingham Family Vineyards salute those who have served and are serving bravely for our freedom.
URL:https://binghamfamilyvineyards.com/event/veterans-day-2023/
CATEGORIES:Holidays
ATTACH;FMTTYPE=image/png:https://binghamfamilyvineyards.com/wp-content/uploads/2023/11/VeteransDay202311.png
END:VEVENT
BEGIN:VEVENT
DTSTART;TZID=America/Chicago:20231112T183000
DTEND;TZID=America/Chicago:20231112T193000
DTSTAMP:20260421T065403
CREATED:20231016T182949Z
LAST-MODIFIED:20231125T053304Z
UID:10000096-1699813800-1699817400@binghamfamilyvineyards.com
SUMMARY:Wine Flavor Class at Bingham Family Vineyards Grapevine
DESCRIPTION:Wine Flavor Class atBingham Family Grapevine\n\n\n\nHave you ever wondered why wines are described as “having notes of black current” or “smokey”?Train your wine palate with our wine education class focused on the many different flavor profiles of wine!  \n\n\n\nIn this class\, you will cover the basics of wine tasting and explore one aspect of a wine’s flavor.  You will engage in an interactive tasting in order to enhance your understanding and appreciation of wine.  \n\n\n\n\n\n\n\n\n\n\n\nRemember\, tasting wine is a subjective experience\, so embrace your own unique preferences and enjoy the exploration of your unique palate! \n\n\n\nThis class will be available on most first\, and second Sunday of each month at 6:30 pm in our Grapevine tasting room.Make your reservation today! \n\n\n\n\n\n\n\n\n\n\n\n\n\n\n\nEach month you will focus on a different aspect of our wine profile quiz to help you discover which wines to explore next. Those aspects include: sweetness\, intensity\, fruit\, oak\, spice\, floral\, acidity\, and minerality. \n\n\n\n\n\n\n\n\n\n\n\nSpice for November\n\n\n\nJust in time for the holidays\, the month of October will focus on “spice”. \n\n\n\nLearn more about the concept of spice in wine while exploring 100% Texas grown wines produced by the Bingham team.  \n\n\n\n\nChoose your Wines by flavor\n\n\n\n\n\n\n\n\nIf you can’t make it to Grapevine for the class\, sign up for our newsletter where we will give you information on the flavor aspects each month.
URL:https://binghamfamilyvineyards.com/event/wine-flavor-class-at-bingham-family-vineyards-grapevine-2/
LOCATION:Bingham Family Vineyards Grapevine\, 620 S Main St\, Grapevine\, TX\, 76051\, United States
CATEGORIES:Grapevine
ATTACH;FMTTYPE=image/png:https://binghamfamilyvineyards.com/wp-content/uploads/2023/06/Wine-Flavor-Education-Class.png
ORGANIZER;CN="Bingham Family Vineyards%2C Grapevine":MAILTO:Grapevine@Bingham.wine
GEO:32.935124;-97.078523
X-APPLE-STRUCTURED-LOCATION;VALUE=URI;X-ADDRESS=Bingham Family Vineyards Grapevine 620 S Main St Grapevine TX 76051 United States;X-APPLE-RADIUS=500;X-TITLE=620 S Main St:geo:-97.078523,32.935124
END:VEVENT
BEGIN:VEVENT
DTSTART;TZID=America/Chicago:20231114T000000
DTEND;TZID=America/Chicago:20231116T235959
DTSTAMP:20260421T065403
CREATED:20230321T215447Z
LAST-MODIFIED:20231125T052502Z
UID:10000059-1699920000-1700179199@binghamfamilyvineyards.com
SUMMARY:Texas Wine and Grape Growers Grape Camp 2023
DESCRIPTION:Texas Wine and Grape Growers Grape Camp\n\n\n\n\n\n\n\n\n\n\n\n\n\n\n\n\n\n\n\nFocused on Texas grape growers\, TWGGA’s Grape Camp event provides outstanding education sessions exploring viticulture challenges like water\, drought\, heat\, and labor\, plus unique grape and wine sensory education. Learn from vineyard and winery experts and enjoy a chance to network with your wine and grape peers at this one-of-a-kind event.  \n\n\n\nNew for 2022: Explore starting a vineyard\, winery\, or tasting room with the Wine and Grape 101 Course (separate registration required). \n\n\n\nSave the date for Grape Camp 2023\, November 14–16 in Lubbock\, Texas. \n\n\n\n\nMore Information
URL:https://binghamfamilyvineyards.com/event/texas-wine-and-grape-growers-grape-camp-2023/
CATEGORIES:Festivals
ATTACH;FMTTYPE=image/png:https://binghamfamilyvineyards.com/wp-content/uploads/2023/03/TWGGA_Logo_Medium-1.png
ORGANIZER;CN="Texas Wine & Grape Growers Association":MAILTO:office@twgga.org
END:VEVENT
BEGIN:VEVENT
DTSTART;TZID=America/Chicago:20231124T000000
DTEND;TZID=America/Chicago:20231124T235959
DTSTAMP:20260421T065403
CREATED:20231112T234214Z
LAST-MODIFIED:20231125T042754Z
UID:10000103-1700784000-1700870399@binghamfamilyvineyards.com
SUMMARY:Johnson City Lights Spectacular 2023
DESCRIPTION:Johnson City Lights Spectacular 2023\n\n\n\n\n\n\n\n“The Twinkliest Town in Texas”\n\n\n\n\n\n\n\n\n\n\n\nHoliday lights will continue to glow in Johnson City from dusk to midnight\,“The Twinkliest Town in Texas”\, boasting over two million twinkling lights in our historic square off Main Street\, Memorial Park and PEC headquarters.  \n\n\n\n\n\n\n\nHistory\n\n\n\nThis free Christmas/Holiday Lights display is an event you can’t miss.  With over 2 Million Christmas lights\, this display is so big\, NASA reported seeing it from space! \n\n\n\nCome out before sundown\, walk our historic downtown with your family\, enjoy local food\, beer\, wine\, and festivities in a family fun atmosphere. \n\n\n\nBook a stay in local B&B’s and hotels!
URL:https://binghamfamilyvineyards.com/event/johnson-city-lights-spectacular-2023/
LOCATION:Johnson City\, Texas\, Johnson City\, Texas
CATEGORIES:Hye
ATTACH;FMTTYPE=image/png:https://binghamfamilyvineyards.com/wp-content/uploads/2023/11/light-Spectacular-.png
ORGANIZER;CN="Johnson City Texas Chamber of Commerce":MAILTO:info@johnsoncitytexaschamber.com
END:VEVENT
END:VCALENDAR