BEGIN:VCALENDAR
VERSION:2.0
PRODID:-//Bingham Family Vineyards - ECPv6.15.20//NONSGML v1.0//EN
CALSCALE:GREGORIAN
METHOD:PUBLISH
X-ORIGINAL-URL:https://binghamfamilyvineyards.com
X-WR-CALDESC:Events for Bingham Family Vineyards
REFRESH-INTERVAL;VALUE=DURATION:PT1H
X-Robots-Tag:noindex
X-PUBLISHED-TTL:PT1H
BEGIN:VTIMEZONE
TZID:America/Chicago
BEGIN:DAYLIGHT
TZOFFSETFROM:-0600
TZOFFSETTO:-0500
TZNAME:CDT
DTSTART:20240310T080000
END:DAYLIGHT
BEGIN:STANDARD
TZOFFSETFROM:-0500
TZOFFSETTO:-0600
TZNAME:CST
DTSTART:20241103T070000
END:STANDARD
BEGIN:DAYLIGHT
TZOFFSETFROM:-0600
TZOFFSETTO:-0500
TZNAME:CDT
DTSTART:20250309T080000
END:DAYLIGHT
BEGIN:STANDARD
TZOFFSETFROM:-0500
TZOFFSETTO:-0600
TZNAME:CST
DTSTART:20251102T070000
END:STANDARD
BEGIN:DAYLIGHT
TZOFFSETFROM:-0600
TZOFFSETTO:-0500
TZNAME:CDT
DTSTART:20260308T080000
END:DAYLIGHT
BEGIN:STANDARD
TZOFFSETFROM:-0500
TZOFFSETTO:-0600
TZNAME:CST
DTSTART:20261101T070000
END:STANDARD
END:VTIMEZONE
BEGIN:VEVENT
DTSTART;TZID=America/Chicago:20250302T000000
DTEND;TZID=America/Chicago:20250302T235959
DTSTAMP:20260421T120856
CREATED:20250124T224457Z
LAST-MODIFIED:20250124T224503Z
UID:10000326-1740873600-1740959999@binghamfamilyvineyards.com
SUMMARY:North Texas Wine Country Valentine Trail - 2025 - Last Day
DESCRIPTION:Indulge in the Charm of North Texas Wine Country …\n\n\n\n\n\n\n\n this February\, where over 40 exceptional wineries invite you to experience their one-of-a-kind wines. From February 1st through March 2nd\, embark on a month-long journey of award-winning wines and unforgettable moments. \n\n\n\nCelebrate love and wine your Valentine at your own pace with a special wine-tasting passport. Savor a unique tasting at each winery\, with a minimum of three hand-selected pours per location. Whether you visit just a few favorites or take on the challenge of exploring them all\, you’ll have the chance to sample more than 100 exquisite wines crafted in the heart of North Texas. \n\n\n\nYour adventure begins with a simple scan—redeem your digital or printed QR code at your first winery stop to check in and activate your passport. Tickets will be conveniently emailed to you upon purchase\, making it easy to focus on what matters most: the wine\, the views\, and the company you keep. \n\n\n\nMake February unforgettable with a toast (or two) to love\, life\, and the magic of North Texas Wine Country! \n\n\n\n\n\n\n\n\n\n\n\n\n\n\n\nWine Trail Terms and Conditions\n\n\n\n\nVisit northtexaswine.com/wineries during the month of each wine trail event to find a list of participating wineries.\n\n\n\nTickets are Non-Refundable.\n\n\n\nDigital Ticket QR Code must be presented at winery to receive wine tastings at each participating winery.\n\n\n\nValid ID required at each participating winery.\n\n\n\nReservations for tastings are required at some wineries. Please check with each winery before visiting.\n\n\n\nDuring the month of wine trail events\, individual wineries may be hosting additional events separate from the wine trail event at their location. Additional fees may apply\, please check with individual wineries for fees if interested in individual winery events.\n\n\n\nPets are not allowed at some wineries\, please check with each winery before bringing your pet.\n\n\n\nNTWC Event tickets are meant for individual use\, not for use in conjunction with a wine tour company who already has tasting prices set with individual Wineries for services rendered.\n\n\n\nBe safe. Please have a Designated Driver for your trail trips.\n\n\n\n\nPlease ensure your reservation is made for the specific location you prefer\, as we cannot honor reservations made for other locations. \n\n\n\n\n\n\n\nGrapevine reservations\n\n\n\n\n\n\n\nRoanoke Reservations
URL:https://binghamfamilyvineyards.com/event/north-texas-wine-country-valentine-trail-2025-last-day/
LOCATION:Bingham Family Vineyards\, Roanoke\, Texas\, 409 N Oak St\, Roanoke\, TX\, 76262
CATEGORIES:Roanoke
ATTACH;FMTTYPE=image/png:https://binghamfamilyvineyards.com/wp-content/uploads/2025/01/NTXValentineWT169.png
END:VEVENT
BEGIN:VEVENT
DTSTART;TZID=America/Chicago:20250312T000000
DTEND;TZID=America/Chicago:20250312T235959
DTSTAMP:20260421T120856
CREATED:20250310T215217Z
LAST-MODIFIED:20250310T215222Z
UID:10000334-1741737600-1741823999@binghamfamilyvineyards.com
SUMMARY:Wine & Food Tasting at Chef's House
DESCRIPTION:Enjoy Bingham Wines with Gourmet Pairings\n\n\n\nChef Sage of Chef’s House will pair a delicious 5-course meal with handpicked wines\, using his extensive culinary expertise to select the most delectable pairings. \n\n\n\n\n\n\n\nJoin us for an unforgettable Wine Tasting Night every Wednesday with Chef Sage at Chef’s House! Enjoy a handcrafted five-course meal\, each dish expertly paired with a Bingham wine for the perfect flavor experience. With Chef Sage’s culinary mastery and our Texas-grown wines\, this is a pairing you won’t want to miss! \n\n\n\nWednesday\, March 12\, 2025 \n\n\n\nMake a Reservation\n\n\n\n\n\n\n\n\n\n\n\nRead more About Chef’s House\n\n\n\n\n\n\n\nIf you have problems making a reservations or questions about pricing\, please call Chef’s House at (817) 909-6220. \n\n\n\n\n\n\n\nIf you can’t make Wednesday\, Chef’s house is open on Tuesday through Saturday \n\n\n\nBring Your Bingham Wine With You\n\n\n\nChef House is a bring your own wine place\, so come by our Roanoke tasting room across the street to purchase a bottle or two to enjoy with your meal\, and the staff at Chef House will opening your bottle and provide glasses for your enjoyment.
URL:https://binghamfamilyvineyards.com/event/wine-food-tasting-at-chefs-house-2/
LOCATION:Chef’s House\, Roanoke\, 400 N Oak St\, Roanoke\, Texas\, 76262
CATEGORIES:Roanoke
ATTACH;FMTTYPE=image/jpeg:https://binghamfamilyvineyards.com/wp-content/uploads/2025/02/Chef-Sage-Sage-1200-web-16x9-1.jpg
ORGANIZER;CN="Chef's House%2C Roanoke":MAILTO:718sakiri@gmail.com
END:VEVENT
BEGIN:VEVENT
DTSTART;TZID=America/Chicago:20250319T000000
DTEND;TZID=America/Chicago:20250319T235959
DTSTAMP:20260421T120856
CREATED:20250310T225709Z
LAST-MODIFIED:20250319T014250Z
UID:10000335-1742342400-1742428799@binghamfamilyvineyards.com
SUMMARY:Wine & Food Tasting at Chef's House
DESCRIPTION:Enjoy Bingham Wines with Gourmet Pairings\n\n\n\nChef Sage of Chef’s House will pair a delicious 5-course meal with handpicked wines\, using his extensive culinary expertise to select the most delectable pairings. \n\n\n\n\n\n\n\nJoin us for an unforgettable Wine Tasting Night every Wednesday with Chef Sage at Chef’s House! Enjoy a handcrafted five-course meal\, each dish expertly paired with a Bingham wine for the perfect flavor experience. With Chef Sage’s culinary mastery and our Texas-grown wines\, this is a pairing you won’t want to miss! \n\n\n\nWednesday\, March 19\, 2025 \n\n\n\nMake a Reservation\n\n\n\n\n\n\n\n\n\n\n\n\n\n\nWines for the Evenings\n\n\n\nof March 19\, 2025 \n\n\n\n2023 Roussanne2021 Reserve Roussanne2019 Cabernet Sauvignon2019 Dugout2023 Reserve Moscato Giallo \n\n\n\n\n\n\n\n\n\n\n\n\n\n\n\n\n\n\nRead more About Chef’s House\n\n\n\n\n\n\n\nIf you have problems making a reservations or questions about pricing\, please call Chef’s House at (817) 909-6220. \n\n\n\n\n\n\n\nIf you can’t make Wednesday\, Chef’s house is open on Tuesday through Saturday \n\n\n\nBring Your Bingham Wine With You\n\n\n\nChef House is a bring your own wine place\, so come by our Roanoke tasting room across the street to purchase a bottle or two to enjoy with your meal\, and the staff at Chef House will opening your bottle and provide glasses for your enjoyment.
URL:https://binghamfamilyvineyards.com/event/wine-food-tasting-at-chefs-house-3/
LOCATION:Chef’s House\, Roanoke\, 400 N Oak St\, Roanoke\, Texas\, 76262
CATEGORIES:Roanoke
ATTACH;FMTTYPE=image/jpeg:https://binghamfamilyvineyards.com/wp-content/uploads/2025/02/Chef-Sage-Sage-1200-web-16x9-1.jpg
ORGANIZER;CN="Chef's House%2C Roanoke":MAILTO:718sakiri@gmail.com
END:VEVENT
BEGIN:VEVENT
DTSTART;TZID=America/Chicago:20250324T000000
DTEND;TZID=America/Chicago:20250324T235959
DTSTAMP:20260421T120856
CREATED:20250219T223829Z
LAST-MODIFIED:20250310T215542Z
UID:10000332-1742774400-1742860799@binghamfamilyvineyards.com
SUMMARY:THC Wine & Wildflower Journey 2025
DESCRIPTION:Texas Hill Country Wine Passport\n\n\n\nThe weather is warm\, the wildflowers are in bloom and it’s time for the Wine & Wildflower Journey! We invite you to join us this spring from March 24 – April 18\, 2025 in the picturesque Texas Hill Country\, sipping and sampling award winning wines at unique Hill Country Wineries. Savor all that Texas Wine Country has to offer this Spring and join us for one day or all twenty-six on this self-guided tour. \n\n\n\n\n\n\n\nPurchase Tickets\n\n\n\n\n\n\n\n\n\n\n\nOnce you have purchased your tickets\, make reservations with us at Bingham Family Vineyards Hye\, so that we can make sure we save you a spot. \n\n\n\n\n\n\n\nMake a reservation with bingham\n\n\n\n\n\n\n\nIncludes:\n\n\n\n\n\n\nYour Wine and Wildflower Journey Passport ticket works like a coupon book and offers hundreds in savings at award winning Texas Hill Country Wineries with a digital barcode ticket to be scanned at each winery (maximum of 4 per day). \n\n\n\n\n\nA complimentary tasting at each participating winery. Most wineries may require reservations for a tasting. All reservation info is noted in the participating wineries list.  \n\n\n\n\n\n15% discount on 3+ bottle purchases of wine at each of the participating wineries. You may redeem your discount at each participating winery once during the event. 
URL:https://binghamfamilyvineyards.com/event/thc-wine-wildflower-journey-2025/
LOCATION:Bingham Family Vineyards Hye\, 11157 US-290\, Hye\, TX\, 78635\, United States
CATEGORIES:Hye
ATTACH;FMTTYPE=image/png:https://binghamfamilyvineyards.com/wp-content/uploads/2025/02/Wine-Wildflower-Journey-2025-14.png
END:VEVENT
END:VCALENDAR