BEGIN:VCALENDAR
VERSION:2.0
PRODID:-//Bingham Family Vineyards - ECPv6.15.20//NONSGML v1.0//EN
CALSCALE:GREGORIAN
METHOD:PUBLISH
X-WR-CALNAME:Bingham Family Vineyards
X-ORIGINAL-URL:https://binghamfamilyvineyards.com
X-WR-CALDESC:Events for Bingham Family Vineyards
REFRESH-INTERVAL;VALUE=DURATION:PT1H
X-Robots-Tag:noindex
X-PUBLISHED-TTL:PT1H
BEGIN:VTIMEZONE
TZID:America/Chicago
BEGIN:DAYLIGHT
TZOFFSETFROM:-0600
TZOFFSETTO:-0500
TZNAME:CDT
DTSTART:20240310T080000
END:DAYLIGHT
BEGIN:STANDARD
TZOFFSETFROM:-0500
TZOFFSETTO:-0600
TZNAME:CST
DTSTART:20241103T070000
END:STANDARD
BEGIN:DAYLIGHT
TZOFFSETFROM:-0600
TZOFFSETTO:-0500
TZNAME:CDT
DTSTART:20250309T080000
END:DAYLIGHT
BEGIN:STANDARD
TZOFFSETFROM:-0500
TZOFFSETTO:-0600
TZNAME:CST
DTSTART:20251102T070000
END:STANDARD
BEGIN:DAYLIGHT
TZOFFSETFROM:-0600
TZOFFSETTO:-0500
TZNAME:CDT
DTSTART:20260308T080000
END:DAYLIGHT
BEGIN:STANDARD
TZOFFSETFROM:-0500
TZOFFSETTO:-0600
TZNAME:CST
DTSTART:20261101T070000
END:STANDARD
END:VTIMEZONE
BEGIN:VEVENT
DTSTART;TZID=America/Chicago:20250412T100000
DTEND;TZID=America/Chicago:20250412T160000
DTSTAMP:20260421T120641
CREATED:20250130T032843Z
LAST-MODIFIED:20250408T122457Z
UID:10000329-1744452000-1744473600@binghamfamilyvineyards.com
SUMMARY:Grapevine Artisans Market 2025
DESCRIPTION:April 12 – September 6\n\n\n\n(except for May 17th) \n\n\n\n10 am – 4 pm — April – June9 am – 2 pm — July – September\n\n\n\nWelcome to the heart of Texas craftsmanship at the 21th Annual Grapevine Artisans Market. Discover vibrant Texas creativity as you explore the collection of handcrafted treasures made by local artisans. From intricate woodwork\, to crochet\, pottery\, jewelry and everything in between\, each piece tells a story of the rich tapestry of Texas culture. Find the perfect one-of-a-kind handmade souvenir or treat to celebrate the talents of Texas farmers and artisans. \n\n\n\n\n\n\n\nWhile you are visiting Grapevine\, come by Bingham Family Vineyards Grapevine to purchase some 100% Texas grown wine from the Dirt Farmer\, another example of farm (or vineyard) to market at its best.
URL:https://binghamfamilyvineyards.com/event/grapevine-farmers-artisan-market-2025/
LOCATION:Town Square Gazebo\, Grapevine\, Texas\, 325 S. Main St.\, Grapevine\, TX\, 76051\, United States
CATEGORIES:Grapevine
ATTACH;FMTTYPE=image/png:https://binghamfamilyvineyards.com/wp-content/uploads/2025/01/Grapevine-Artisan-Market-2025-2.png
GEO:32.9381898;-97.0781308
X-APPLE-STRUCTURED-LOCATION;VALUE=URI;X-ADDRESS=Town Square Gazebo Grapevine Texas 325 S. Main St. Grapevine TX 76051 United States;X-APPLE-RADIUS=500;X-TITLE=325 S. Main St.:geo:-97.0781308,32.9381898
END:VEVENT
BEGIN:VEVENT
DTSTART;TZID=America/Chicago:20250412T103000
DTEND;TZID=America/Chicago:20250412T110000
DTSTAMP:20260421T120641
CREATED:20250130T040806Z
LAST-MODIFIED:20250408T122042Z
UID:10000331-1744453800-1744455600@binghamfamilyvineyards.com
SUMMARY:Blessing of the Vines 2025
DESCRIPTION:The Blessing of the Vines and Procession at Grapevine Main Station is a cherished event steeped in European tradition\, held annually to invoke blessings for a fruitful harvest. Beginning at 10 a.m. on Saturday\, this centuries-old ritual is conducted by a priest amidst the scenic Peace Plaza. Attendees gather to witness and participate in this solemn ceremony\, which symbolizes hopes for a successful grape-growing season. \n\n\n\n\n\n\n\nPeace Plaza at Grapevine Main Station\, located at 815 S. Main St.\, serves as the picturesque backdrop for this cultural celebration. Surrounded by historic architecture and vineyard motifs\, the plaza transforms into a focal point where locals and visitors alike come together to honor tradition and community spirit. This event not only reaffirms Grapevine’s rich heritage in viticulture but also provides a meaningful experience for those seeking to connect with the rituals that have shaped the region’s winemaking legacy.
URL:https://binghamfamilyvineyards.com/event/blessing-of-the-vines-2025/
LOCATION:Peace Plaza\, Grapevine Main Station\, 815 S. Main St\, Grapevine\, Texas\, 76051\, United States
CATEGORIES:Grapevine
ATTACH;FMTTYPE=image/jpeg:https://binghamfamilyvineyards.com/wp-content/uploads/2025/01/180414_untitled_0011200web_1x1.jpg
ORGANIZER;CN="Grapevine Convention & Visitors Bureau":MAILTO:visitorinfo@grapevinetexasusa.com
END:VEVENT
BEGIN:VEVENT
DTSTART;TZID=America/Chicago:20250412T110000
DTEND;TZID=America/Chicago:20250412T180000
DTSTAMP:20260421T120641
CREATED:20250130T035100Z
LAST-MODIFIED:20250408T230641Z
UID:10000330-1744455600-1744480800@binghamfamilyvineyards.com
SUMMARY:Grapevine Texas Spring Wine Trail 2025
DESCRIPTION:Visit Bingham and Giddens Gallery\n\n\n\n\n\n\n\n\n\n\n\n\n\n\n\nToast the new release wines at Grapevine’s 33rd Annual New Vintage Wineries & Galleries Trail. This event showcases incredible works of fine art and new-release wines of the season. Join us for delicious wine tastings and astonishing sculptures along Main Street complemented by exploring charming art galleries and shops. \n\n\n\n\n\n\n\n\n\n\n\n\n\n\n\nBuy Tickets\n\n\n\n\n\n\n\nThe day starts with the Blessing of the Vines and Procession that you can take part in at 10:30 a.m – 11:15 am. This centuries-old European tradition performed by a priest to ensure a bountiful harvest\, is a time-honored Grapevine favorite and will take place Saturday on Peace Plaza at Grapevine Main Station (815 S. Main St.) \n\n\n\n\n\n\n\n\n\n\n\nThen\, passport holders will enjoy tastings at Grapevine’s winery tasting rooms from 11 a.m. to 6 p.m. (Passports that are pre-ordered can be picked up at the Grapevine Main Plaza) \n\n\n\nWhile traveling Main Street during New Vintage\, make sure you visit Bingham Family Vineyards Grapevine as well as Gidden’s Gallery. \n\n\n\nYou can purchase tickets at Peace Plaza at Grapevine Main Station or Liberty Park Plaza (across from City Hall).
URL:https://binghamfamilyvineyards.com/event/new-vintage-wineries-galleries-trail-2025/
LOCATION:Bingham Family Vineyards Grapevine\, 620 S Main St\, Grapevine\, TX\, 76051\, United States
CATEGORIES:Grapevine
ATTACH;FMTTYPE=image/png:https://binghamfamilyvineyards.com/wp-content/uploads/2025/01/Grapevine-Texas-Spring-Wine-Trail-16x9-1.png
ORGANIZER;CN="Grapevine Convention & Visitors Bureau":MAILTO:visitorinfo@grapevinetexasusa.com
GEO:32.935124;-97.078523
X-APPLE-STRUCTURED-LOCATION;VALUE=URI;X-ADDRESS=Bingham Family Vineyards Grapevine 620 S Main St Grapevine TX 76051 United States;X-APPLE-RADIUS=500;X-TITLE=620 S Main St:geo:-97.078523,32.935124
END:VEVENT
BEGIN:VEVENT
DTSTART;TZID=America/Chicago:20250418T000000
DTEND;TZID=America/Chicago:20250418T235959
DTSTAMP:20260421T120641
CREATED:20250219T225252Z
LAST-MODIFIED:20250310T225952Z
UID:10000333-1744934400-1745020799@binghamfamilyvineyards.com
SUMMARY:THC Wine & Wildflower Journey 2025 - Last Date
DESCRIPTION:Texas Hill Country Wine Passport\n\n\n\nThe weather is warm\, the wildflowers are in bloom and it’s time for the Wine & Wildflower Journey! We invite you to join us this spring from March 24 – April 18\, 2025 in the picturesque Texas Hill Country\, sipping and sampling award winning wines at unique Hill Country Wineries. Savor all that Texas Wine Country has to offer this Spring and join us for one day or all twenty-six on this self-guided tour. \n\n\n\n\n\n\n\nPurchase Tickets\n\n\n\n\n\n\n\n\n\n\n\nOnce you have purchased your tickets\, make reservations with us at Bingham Family Vineyards Hye\, so that we can make sure we save you a spot. \n\n\n\n\n\n\n\nMake a reservation with bingham\n\n\n\n\n\n\n\nIncludes:\n\n\n\n\n\n\nYour Wine and Wildflower Journey Passport ticket works like a coupon book and offers hundreds in savings at award winning Texas Hill Country Wineries with a digital barcode ticket to be scanned at each winery (maximum of 4 per day). \n\n\n\n\n\nA complimentary tasting at each participating winery. Most wineries may require reservations for a tasting. All reservation info is noted in the participating wineries list.  \n\n\n\n\n\n15% discount on 3+ bottle purchases of wine at each of the participating wineries. You may redeem your discount at each participating winery once during the event. 
URL:https://binghamfamilyvineyards.com/event/thc-wine-wildflower-journey-2025-last-date/
LOCATION:Bingham Family Vineyards Hye\, 11157 US-290\, Hye\, TX\, 78635\, United States
CATEGORIES:Hye
ATTACH;FMTTYPE=image/png:https://binghamfamilyvineyards.com/wp-content/uploads/2025/02/Untitled-design-2.png
END:VEVENT
END:VCALENDAR