BEGIN:VCALENDAR
VERSION:2.0
PRODID:-//Bingham Family Vineyards - ECPv6.15.20//NONSGML v1.0//EN
CALSCALE:GREGORIAN
METHOD:PUBLISH
X-WR-CALNAME:Bingham Family Vineyards
X-ORIGINAL-URL:https://binghamfamilyvineyards.com
X-WR-CALDESC:Events for Bingham Family Vineyards
REFRESH-INTERVAL;VALUE=DURATION:PT1H
X-Robots-Tag:noindex
X-PUBLISHED-TTL:PT1H
BEGIN:VTIMEZONE
TZID:America/Chicago
BEGIN:DAYLIGHT
TZOFFSETFROM:-0600
TZOFFSETTO:-0500
TZNAME:CDT
DTSTART:20240310T080000
END:DAYLIGHT
BEGIN:STANDARD
TZOFFSETFROM:-0500
TZOFFSETTO:-0600
TZNAME:CST
DTSTART:20241103T070000
END:STANDARD
BEGIN:DAYLIGHT
TZOFFSETFROM:-0600
TZOFFSETTO:-0500
TZNAME:CDT
DTSTART:20250309T080000
END:DAYLIGHT
BEGIN:STANDARD
TZOFFSETFROM:-0500
TZOFFSETTO:-0600
TZNAME:CST
DTSTART:20251102T070000
END:STANDARD
BEGIN:DAYLIGHT
TZOFFSETFROM:-0600
TZOFFSETTO:-0500
TZNAME:CDT
DTSTART:20260308T080000
END:DAYLIGHT
BEGIN:STANDARD
TZOFFSETFROM:-0500
TZOFFSETTO:-0600
TZNAME:CST
DTSTART:20261101T070000
END:STANDARD
END:VTIMEZONE
BEGIN:VEVENT
DTSTART;TZID=America/Chicago:20250725T190000
DTEND;TZID=America/Chicago:20250725T220000
DTSTAMP:20260423T053611
CREATED:20250627T220029Z
LAST-MODIFIED:20250627T220035Z
UID:10000341-1753470000-1753480800@binghamfamilyvineyards.com
SUMMARY:Disco Wine Train: Groovy Nightlife Experience in Grapevine
DESCRIPTION:You’ll love the nightlife onboard the Grapevine Vintage Railroad’s 3rd Annual Disco Wine Train! You’ll have a groovy time on the disco-inspired excursion. \n\n\n\n\n\n\n\n\n\n\n\nThe two-hour journey on Friday\, July 25\, includes individually portioned savory bites from Alonti and two complimentary glasses of wine from Bingham served in a souvenir glass. The entire experience features disco music\, disco lights and tons of fun.  \n\n\n\nPurchase Tickets\n\n\n\n\n\n\n\nTwo glasses* of fine Texas wine from Bingham (Wine descriptions below)Souvenir wine glassAlonti snack boxes that include a half sandwich and charcuterie for the perfect bite alongside your wine (Vegetarian and Gluten-free options available)*Additional wine is available for purchase \n\n\n\nThe featured winery for the evening is Bingham. The following wine selections will be available: \n\n\n\nCloudburst – A dry\, mellow wine that feels distinctly Mediterranean\, complete with a salty sea breeze.Summer Nights – Our Summer Nights is a sweet rosé that has bursts of flavor.Short Rows – Floral\, and deliciously sweet on the palate\, but with a light and refreshing body.Petit Verdot – Our estate Petit Verdot varietal wine is a bold tannic oak aged wine\, oaked for almost two years. \n\n\n\nThe Disco Wine Train will operate rain or shine. \n\n\n\n Boarding begins at 7 p.m. and the train departs at 7:25 p.m.\, returning approximately two hours later.Seats are selected at the time of purchase. \n\n\n\nAdditional wine will be available for purchase. Ages 21+ only. \n\n\n\nRemember the train departs at 7:25 p.m.
URL:https://binghamfamilyvineyards.com/event/disco-wine-train-groovy-nightlife-experience-in-grapevine/
LOCATION:Grapevine Vintage Railroad\, 705 S Main St\, Grapevine\, Texas\, 76051\, United States
CATEGORIES:Grapevine
ATTACH;FMTTYPE=image/jpeg:https://binghamfamilyvineyards.com/wp-content/uploads/2025/06/250627Grapevine-Disco-Train-GCVB001-4x5-web.jpg
ORGANIZER;CN="Grapevine Vintage Railroad":MAILTO:VisitorInfo@GrapevineTexasUSA.com
GEO:32.9337624;-97.0780604
X-APPLE-STRUCTURED-LOCATION;VALUE=URI;X-ADDRESS=Grapevine Vintage Railroad 705 S Main St Grapevine Texas 76051 United States;X-APPLE-RADIUS=500;X-TITLE=705 S Main St:geo:-97.0780604,32.9337624
END:VEVENT
END:VCALENDAR