BEGIN:VCALENDAR
VERSION:2.0
PRODID:-//Bingham Family Vineyards - ECPv6.15.20//NONSGML v1.0//EN
CALSCALE:GREGORIAN
METHOD:PUBLISH
X-ORIGINAL-URL:https://binghamfamilyvineyards.com
X-WR-CALDESC:Events for Bingham Family Vineyards
REFRESH-INTERVAL;VALUE=DURATION:PT1H
X-Robots-Tag:noindex
X-PUBLISHED-TTL:PT1H
BEGIN:VTIMEZONE
TZID:America/Chicago
BEGIN:DAYLIGHT
TZOFFSETFROM:-0600
TZOFFSETTO:-0500
TZNAME:CDT
DTSTART:20240310T080000
END:DAYLIGHT
BEGIN:STANDARD
TZOFFSETFROM:-0500
TZOFFSETTO:-0600
TZNAME:CST
DTSTART:20241103T070000
END:STANDARD
BEGIN:DAYLIGHT
TZOFFSETFROM:-0600
TZOFFSETTO:-0500
TZNAME:CDT
DTSTART:20250309T080000
END:DAYLIGHT
BEGIN:STANDARD
TZOFFSETFROM:-0500
TZOFFSETTO:-0600
TZNAME:CST
DTSTART:20251102T070000
END:STANDARD
BEGIN:DAYLIGHT
TZOFFSETFROM:-0600
TZOFFSETTO:-0500
TZNAME:CDT
DTSTART:20260308T080000
END:DAYLIGHT
BEGIN:STANDARD
TZOFFSETFROM:-0500
TZOFFSETTO:-0600
TZNAME:CST
DTSTART:20261101T070000
END:STANDARD
END:VTIMEZONE
BEGIN:VEVENT
DTSTART;TZID=America/Chicago:20251219T000000
DTEND;TZID=America/Chicago:20251219T235959
DTSTAMP:20260420T064613
CREATED:20251024T221702Z
LAST-MODIFIED:20251024T221709Z
UID:10000358-1766102400-1766188799@binghamfamilyvineyards.com
SUMMARY:Texas Hill Country Winery Christmas Wine Affair - 2025 - last day
DESCRIPTION:Discover the 2025 Winter Wine Trail — “Christmas Wine Affair”\n\n\n\n\n\n\n\nGet ready to embark on a spirited\, self-guided wine adventure from November 24 through December 19\, 2025\, through the heart of the scenic Texas Hill Country. Organized by Texas Hill Country Wineries\, the “Christmas Wine Affair Passport 2025” gives you access to 50 + vineyards for special tastings\, savings\, and plenty of holiday cheer. \n\n\n\n\n\n\n\nReservations At Bingham\n\n\n\n\n\n\n\n\n\n\n\nWhat’s Included in the Passport\n\n\n\n\nA complimentary tasting at each participating winery. \n\n\n\nA 15% discount on the purchase of 3 or more bottles at each winery once. \n\n\n\nEach ticket acts like a “coupon book” for the full 26-day event; you can visit up to 4 wineries per day\, and each winery may be visited just once during the event. \n\n\n\nDigital barcode ticket\, emailed upon purchase. \n\n\n\nPrice: $65 individual\, $100 couple. \n\n\n\n\nWhy This Event Deserves a Spot on Your Calendar\n\n\n\n\nPerfect for holiday-wine lovers: crisp air\, sparkling lights\, and exceptional Texas wines.\n\n\n\nWith complementary tastings plus discounts\, the value far exceeds the ticket price — you just need to visit a handful of wineries to make it worth it.\n\n\n\nA self-driven experience: you set your route\, stops and pace\, immersing yourself in the region’s scenic vineyards and warm hospitality.\n\n\n\n\n\n\n\n\n\n\n\n\nMake the Stop at Bingham Family Vineyards – Hye\n\n\n\nWhile the trail includes dozens of great wineries\, make sure you prioritize a visit to Bingham Family Vineyards in Hye. Here’s why: \n\n\n\n\nLocated at 11157 US-290\, Hye\, TX\, this 100% estate-grown vineyard brings the High Plains right into the Hill Country glasses.\n\n\n\nOpen during the event period and ready to welcome Passport-holders: tasting room hours for this event are Thursday through Monday from 11:00 a.m. to 6:00 p.m.\n\n\n\nOnline reservations are suggested especially for Saturday visits to provide you with a seamless experience.\n\n\n\nA memorable stop: rooted in Texas farming heritage\, the Bingham team offers friendly\, genuine hospitality and wines that speak of the land.\n\n\n\n\nDon’t miss this – make Bingham your featured stop on the trail.\n\n\n\n\n\n\n\nReservations at Bingham\n\n\n\n\n\n\n\n\n\n\n\n\n\n\n\nReady to Join the Trail?\n\n\n\n\n\n\n\nWine Trail Tickets\n\n\n\n\n\n\n\nNote: Be sure to follow safe-driving practices and consider a designated driver or coach if you plan multiple tastings in a day.
URL:https://binghamfamilyvineyards.com/event/texas-hill-country-winery-christmas-wine-affair-2025-last-day/
LOCATION:Bingham Family Vineyards Hye\, 11157 US-290\, Hye\, TX\, 78635\, United States
CATEGORIES:Hye
ATTACH;FMTTYPE=image/png:https://binghamfamilyvineyards.com/wp-content/uploads/2025/10/CWA-25-1-1.png
END:VEVENT
END:VCALENDAR