BEGIN:VCALENDAR
VERSION:2.0
PRODID:-//Bingham Family Vineyards - ECPv6.15.20//NONSGML v1.0//EN
CALSCALE:GREGORIAN
METHOD:PUBLISH
X-ORIGINAL-URL:https://binghamfamilyvineyards.com
X-WR-CALDESC:Events for Bingham Family Vineyards
REFRESH-INTERVAL;VALUE=DURATION:PT1H
X-Robots-Tag:noindex
X-PUBLISHED-TTL:PT1H
BEGIN:VTIMEZONE
TZID:America/Chicago
BEGIN:DAYLIGHT
TZOFFSETFROM:-0600
TZOFFSETTO:-0500
TZNAME:CDT
DTSTART:20220313T080000
END:DAYLIGHT
BEGIN:STANDARD
TZOFFSETFROM:-0500
TZOFFSETTO:-0600
TZNAME:CST
DTSTART:20221106T070000
END:STANDARD
BEGIN:DAYLIGHT
TZOFFSETFROM:-0600
TZOFFSETTO:-0500
TZNAME:CDT
DTSTART:20230312T080000
END:DAYLIGHT
BEGIN:STANDARD
TZOFFSETFROM:-0500
TZOFFSETTO:-0600
TZNAME:CST
DTSTART:20231105T070000
END:STANDARD
BEGIN:DAYLIGHT
TZOFFSETFROM:-0600
TZOFFSETTO:-0500
TZNAME:CDT
DTSTART:20240310T080000
END:DAYLIGHT
BEGIN:STANDARD
TZOFFSETFROM:-0500
TZOFFSETTO:-0600
TZNAME:CST
DTSTART:20241103T070000
END:STANDARD
END:VTIMEZONE
BEGIN:VEVENT
DTSTART;TZID=America/Chicago:20231204T000000
DTEND;TZID=America/Chicago:20231204T235959
DTSTAMP:20260423T123416
CREATED:20231204T221713Z
LAST-MODIFIED:20231204T223003Z
UID:10000107-1701648000-1701734399@binghamfamilyvineyards.com
SUMMARY:Cabernet Franc Day 2023
DESCRIPTION:Cabernet Franc Day 2023\n\n\n\n\n\n\n\n\n\n\n\n\n\n\n\n\n\nblueberries\, ripe plums\, pepper\, smoke and hints of oak\n\n\n\n\n2020 Reserve Cabernet Franc\n\n\n\nOur 2020 Estate Reserve Cabernet Franc is a dry\, medium to almost full bodied red. Good acidity balance\, good tannin balance and some smoky undertones. This wine is a very balanced red- the tannin\, the acid\, the oak\, the alcohol\, all balance out in the glass and on the palate. \n\n\n\nBlueberries\, ripe plums\, pepper\, smoke and hints of oak really make this wine complex and savory. This wine will continue to age very well in bottles- set a few aside and come back in 3 years and see how it has changed. \n\n\n\n\n\n\n\nDue to back-to-back frosts on the High Plains in 2020\, our vineyards suffered substantial crop losses. While 2019 was a bountiful year\, 2020 was not. The bright spot in not having the normal tonnages we annually produce\, what fruit we did produce was fantastic quality. The 2020 Cab Franc Reserve was a small batch lot that was aged in new American and French oak barrels for twenty-four months. \n\n\n\nOnly six barrels of 2020 Reserve Cabernet Franc were produced. The wine was made in a traditional French fashion with no tannin additives or other flavor “enhancers”. The wine was simply fermented on its skins for seven days and then gently pressed into barrels and aged for two years. This is a wine you can keep in the cellar for five to six years\, and it will continue to evolve and grow more complex. \n\n\n\nBecause of the limit number of bottles this wine has been and well remain a Bingham wine club exclusive.  \n\n\n\nJoin our wine club to be able to explore 100% Texas estate wines including red varietal wines crafted from our Cabernet Franc\, Cabernet Sauvignon\, Carignan\, Dolcetto\, Graciano\, Merlot\, Mourvèdre\, Petit Verdot\, Sangiovese\, Tannat\, Tempranillo. and Teroldego. \n\n\n\nAnd white wines made from Albariño\, Gewürztraminer\, Malvasia Bianca\, Marsanne\, Moscato Giallo\, Roussanne\, Sémillon\, Trebbiano\, Vermentino\, and Viognier. \n\n\n\nWhat other wine club in Texas gives you this much choice and convenience for your wine club purchases \n\n\n\nJoin Our Wine Club\n\n\n\n\n\n\n\n\n\n\n\n\n\nBuy 2020 Reserve Cabernet Franc\n\n\n\n\n\n\n\n\n\n\n\nbuy 2019 Cabernet Franc
URL:https://binghamfamilyvineyards.com/event/cabernet-franc-day-2023/
LOCATION:Bingham Family Vineyards and Winery\, 645 FM 303\, Meadow\, TX\, 79345
CATEGORIES:Holidays
ATTACH;FMTTYPE=image/jpeg:https://binghamfamilyvineyards.com/wp-content/uploads/2023/12/23.12.04_2020.R.Cab_.Franc_.Xmas_009-1200-web-16x9-1.jpg
GEO:33.3061379;-102.4135273
X-APPLE-STRUCTURED-LOCATION;VALUE=URI;X-ADDRESS=Bingham Family Vineyards and Winery 645 FM 303 Meadow TX 79345;X-APPLE-RADIUS=500;X-TITLE=645 FM 303:geo:-102.4135273,33.3061379
END:VEVENT
BEGIN:VEVENT
DTSTART;TZID=America/Chicago:20230828T000000
DTEND;TZID=America/Chicago:20230828T235959
DTSTAMP:20260423T123416
CREATED:20230828T172956Z
LAST-MODIFIED:20230828T173000Z
UID:10000086-1693180800-1693267199@binghamfamilyvineyards.com
SUMMARY:Celebrate National Red Wine Day 2023
DESCRIPTION:As fall arrives\, celebrate National Red Wine Day every August 28th.  \n\n\n\nCelebrate by stocking up on authentic Texas red wine. \n\n\n\nHere are some of our estate red wines available to you. \n\n\n\n\n\n\n\nChoose between our large selection of 100% estate red wines because…we grow all of these red grapes. \n\n\n\nAt Bingham we have experienced vineyard laborers cultivating a range of red grape varieties\, including Cabernet Franc\, Cabernet Sauvignon\, Carignan\, Dolcetto\, Graciano\, Merlot\, Mourvèdre\, Petit Verdot\, Tannat\, Tempranillo\, and Teroldego. \n\n\n\nFollowing the cultivation of these grape varieties\, we engage in the skilled crafting of these grapes into varietal wines using all of these grapes. Also creating our collection of five red wine blends. All of this is orchestrated for your ultimate delight. \n\n\n\nYou have the option to select from dry\, sweet\, or semi-sweet red wines. These wines are available with a balanced level of oak influence or a more pronounced fruit-forward profile\, according to your preferences. \n\n\n\n\nTry our Flavor Profile Tool for your Selections\n\n\n\n\n\n\n\n\nAlternatively\, you can make a reservation for a wine tasting at one of our tasting rooms\, where you can discover and explore your wine preferences. \n\n\n\n\nMake a Reservation\n\n\n\n\n\n\n\n\nWe reserve the limited wines exclusively for our club members as a token of appreciation for their unwavering support. \n\n\n\nIf you’re not already part of our club\, take a look at our subscription membership tailored to your individual preferences. You have the freedom to select your wines and decide how often you receive your packages. \n\n\n\n\nRead More About Our Wine Club Here\n\n\n\n\n\n\n\n\nRest assured drinking Bingham wine\, knowing not only where the grapes were grown and the wine crafted\, but that you are drinking quality wine.Relax and enjoy!
URL:https://binghamfamilyvineyards.com/event/celebrate-national-red-wine-day-2023/
LOCATION:Bingham Family Vineyards and Winery\, 645 FM 303\, Meadow\, TX\, 79345
CATEGORIES:Holidays
ATTACH;FMTTYPE=image/png:https://binghamfamilyvineyards.com/wp-content/uploads/2023/08/230828_allred_007-1200-web-16x9-1.png
ORGANIZER;CN="Bingham Family Vineyards%2C Meadow":MAILTO:friends@BinghamFamilyVineyards.com
GEO:33.3061379;-102.4135273
X-APPLE-STRUCTURED-LOCATION;VALUE=URI;X-ADDRESS=Bingham Family Vineyards and Winery 645 FM 303 Meadow TX 79345;X-APPLE-RADIUS=500;X-TITLE=645 FM 303:geo:-102.4135273,33.3061379
END:VEVENT
BEGIN:VEVENT
DTSTART;TZID=America/Chicago:20230804T000000
DTEND;TZID=America/Chicago:20230804T235959
DTSTAMP:20260423T123416
CREATED:20230804T145933Z
LAST-MODIFIED:20230804T150323Z
UID:10000081-1691107200-1691193599@binghamfamilyvineyards.com
SUMMARY:Celebrate National White Wine Day 2023
DESCRIPTION:With Bingham estate wines\, the choice is yours.  \n\n\n\n\n\n\n\n\n\n\n\nHow can Bingham have so many choices of great white wine? It is because we grow ten white grape varieties: Albariño\, Gewürztraminer\, Malvasia Bianca\, Marsanne\, Moscato Giallo\, Roussanne\, Sémillon\, Trebbiano\, Vermentino\, and Viognier. \n\n\n\nI included our two rose’ wines in this photo for you to consider for your summer drinking in hot weather as well as all of our white wines. There is also a bottle of our unreleased Reserve Semillon. But the rest of the wines are currently available for our club members\, and many to all of our friends.  \n\n\n\nWe have oaked as well as unoaked whites. Some of our white wines are oaked to develop a deep level of richness with lingering notes of vanilla and spice. While some of our white wines are stainless steel aged to retain their high level of acidity and fruit flavor.  \n\n\n\n\n\n\n\n\n\n\n\nThe choice is yours at Bingham.\n\n\n\nThe choice is also yours how you decide on your choices.  \n\n\n\n\nFirst if you already know what wine you like\, order here from our web site to have it shipped to your door.\n\n\n\nOr use our flavor profile tool to choice those wines to have shipped.\n\n\n\nAnother good way to explore Texas wine is to visit one of our three (soon to be four) locations\, and have our team tell you more about our wines as you taste to learn what your preferences are. You can make a reservation as well to ensure your pleasant experience.\n\nHye\n\n\n\nGrapevine\n\n\n\nMeadow\n\n\n\nSoon at Roanoke\n\n\n\n\n\nAfter you have enjoyed exploring 100% Texas estate wine from Bingham\, you will want to consider our wine club that you can personalize to your preferences. You choose the frequency and the wine. Skip a shipment or cancel to fit your needs.\n\n\n\n\nSo no excuses now\, it is so easy to explore 100% Texas white wine. You can rest assured drinking Bingham wine\, knowing not only where the grapes were grown and the wine crafted\, but that you are drinking quality wine. \n\n\n\nBlessings\,Betty
URL:https://binghamfamilyvineyards.com/event/celebrate-national-white-wine-day-2023/
LOCATION:Bingham Family Vineyards and Winery\, 645 FM 303\, Meadow\, TX\, 79345
CATEGORIES:Holidays
ATTACH;FMTTYPE=image/png:https://binghamfamilyvineyards.com/wp-content/uploads/2023/08/230803_whitewine_bottleswhitewineday2_004-1200-web-16x9-1.png
GEO:33.3061379;-102.4135273
X-APPLE-STRUCTURED-LOCATION;VALUE=URI;X-ADDRESS=Bingham Family Vineyards and Winery 645 FM 303 Meadow TX 79345;X-APPLE-RADIUS=500;X-TITLE=645 FM 303:geo:-102.4135273,33.3061379
END:VEVENT
BEGIN:VEVENT
DTSTART;TZID=America/Chicago:20230409T000000
DTEND;TZID=America/Chicago:20230409T235959
DTSTAMP:20260423T123416
CREATED:20230405T233042Z
LAST-MODIFIED:20230405T233342Z
UID:10000064-1680998400-1681084799@binghamfamilyvineyards.com
SUMMARY:Easter Sunday - 2023
DESCRIPTION:Bingham Family Vineyards will be closed at all of our locations\, Meadow\, Grapevine\, and Hye\, on Easter Sunday.Our goal is for our employees to have time to spend with their friends and family to celebrate this joyous day.
URL:https://binghamfamilyvineyards.com/event/easter-sunday-2023/
LOCATION:Bingham Family Vineyards and Winery\, 645 FM 303\, Meadow\, TX\, 79345
CATEGORIES:Holidays
ATTACH;FMTTYPE=image/jpeg:https://binghamfamilyvineyards.com/wp-content/uploads/2023/04/230402_vineyardHye_036-1200-web-16x9-1.jpg
GEO:33.3061379;-102.4135273
X-APPLE-STRUCTURED-LOCATION;VALUE=URI;X-ADDRESS=Bingham Family Vineyards and Winery 645 FM 303 Meadow TX 79345;X-APPLE-RADIUS=500;X-TITLE=645 FM 303:geo:-102.4135273,33.3061379
END:VEVENT
BEGIN:VEVENT
DTSTART;TZID=America/Chicago:20230406T000000
DTEND;TZID=America/Chicago:20230406T235959
DTSTAMP:20260423T123416
CREATED:20230406T034921Z
LAST-MODIFIED:20230406T034924Z
UID:10000065-1680739200-1680825599@binghamfamilyvineyards.com
SUMMARY:National Viognier Day
DESCRIPTION:At Bingham Family Vineyards\, we have one of the largest selections of estate wines to share with our friends. Which means that we grow all of the grapes and produce all of our own wine at our vineyard and winery in Meadow\, Texas in the Texas High Plains AVA. \n\n\n\nWe even offer our club members a selection of either an oaked or an unoaked Viognier. Currently these wines are reserved for club members only\, but our subscription club is so easy to join that you may want to try it. Choose what wines you receive and when you will receive them. That is the basis for our wine club. Read more about our wine club here. \n\n\n\n\n\n\n\n\n\n\n\n\nPurchase our Oaked 2019 Reserve Viognier\n\n\n\n\n\n\n\n\nor \n\n\n\n\nPurchase our unoaked 2021 Viognier\n\n\n\n\n\n\n\n\nThere are many days to celebrate wine. Wine Folly has an “official” list on their web site. The Texas Wine Lovers site has another list. \n\n\n\nOn the Texas Wine Lover site\, Jeff Cope’s list gives a couple of ideas for new days. One of those ideas is a National Viognier Day on April 6th. His reasoning sounds good. \n\n\n\n“National Viognier Day – Viognier was one of the first white wines that did well in Texas and a lot of people still think of Viognier as the white grape of Texas. One of the first wineries that showed the world how Texas can make great Viognier is Pedernales Cellars when they won a Grand Gold at the 2013 Concours International des Vins à Lyon (Lyon International Wine Competition) in France with their 2012 Viognier Reserve. From some research\, it seems that the competition was held on April 6\, 2013\, so April 6 is now National Viognier Day.” — Texas Wine Lover web site \n\n\n\nBingham Family Vineyards grew grapes for three different Texas wineries that had winning wines at that competition that year. We still grow Viognier grapes for Pedernales Cellars for their “Seriously Texas Wine” which is still winning awards today. \n\n\n\nWe can also offer you our own Viognier. We have both oaked and unoaked Viognier for our friends celebration. Which do you like best? Or try both? \n\n\n\nIf you like an oaked white wine try our 2019 Reserve Viognier. This wine pairs well with grilled pork chops with pineapple relish or baked brie. \n\n\n\n\nBuy Our 2019 Reserve Viognier\n\n\n\n\n\n\n\n\nOr enjoy our 2021 unoaked Viognier fermented in stainless steel \n\n\n\n\n2021 Viognier\n\n\n\n\n\n\n\n\nBingham Family Vineyards 2021 Viognier is a full bodied\, crisp\, clean white. Fermented at cold temperatures in stainless steel. The Viognier grapes were harvested at 24 brix in mid-September. For 2021 we decided to try something new with our Viognier. Instead of pressing 100% of the fruit immediately after harvesting\, we set a portion aside and gave it 18 hours of skin contact. The 18 hours of grape skin contact gave the wine a unique full body character when blended back together. Our winemaker\, Sam Jennings\, considers this one of his favorite wines of 2021. This High Plains Viognier is truly one of a kind. \n\n\n\nFull bodied\, bold and cream. It almost tastes sweet\, but there is no residual sugar. Tastes of honeysuckle and vanilla with hints of clove and spice. Aromas of green apple and melon. \n\n\n\nCedar plank Salmon on the grill with some shrimp skewers are Sam’s personal favorite with this wine. \n\n\n\nCelebrate Texas Viognier by buying some today. \n\n\n\nBlessings\,Betty
URL:https://binghamfamilyvineyards.com/event/national-viognier-day/
LOCATION:Bingham Family Vineyards and Winery\, 645 FM 303\, Meadow\, TX\, 79345
CATEGORIES:Holidays
ATTACH;FMTTYPE=image/jpeg:https://binghamfamilyvineyards.com/wp-content/uploads/2023/04/230404_21Viognier19RViognier_014-1200-web-16x9-1.jpg
GEO:33.3061379;-102.4135273
X-APPLE-STRUCTURED-LOCATION;VALUE=URI;X-ADDRESS=Bingham Family Vineyards and Winery 645 FM 303 Meadow TX 79345;X-APPLE-RADIUS=500;X-TITLE=645 FM 303:geo:-102.4135273,33.3061379
END:VEVENT
END:VCALENDAR