BEGIN:VCALENDAR
VERSION:2.0
PRODID:-//Bingham Family Vineyards - ECPv6.15.20//NONSGML v1.0//EN
CALSCALE:GREGORIAN
METHOD:PUBLISH
X-ORIGINAL-URL:https://binghamfamilyvineyards.com
X-WR-CALDESC:Events for Bingham Family Vineyards
REFRESH-INTERVAL;VALUE=DURATION:PT1H
X-Robots-Tag:noindex
X-PUBLISHED-TTL:PT1H
BEGIN:VTIMEZONE
TZID:America/Chicago
BEGIN:DAYLIGHT
TZOFFSETFROM:-0600
TZOFFSETTO:-0500
TZNAME:CDT
DTSTART:20220313T080000
END:DAYLIGHT
BEGIN:STANDARD
TZOFFSETFROM:-0500
TZOFFSETTO:-0600
TZNAME:CST
DTSTART:20221106T070000
END:STANDARD
BEGIN:DAYLIGHT
TZOFFSETFROM:-0600
TZOFFSETTO:-0500
TZNAME:CDT
DTSTART:20230312T080000
END:DAYLIGHT
BEGIN:STANDARD
TZOFFSETFROM:-0500
TZOFFSETTO:-0600
TZNAME:CST
DTSTART:20231105T070000
END:STANDARD
BEGIN:DAYLIGHT
TZOFFSETFROM:-0600
TZOFFSETTO:-0500
TZNAME:CDT
DTSTART:20240310T080000
END:DAYLIGHT
BEGIN:STANDARD
TZOFFSETFROM:-0500
TZOFFSETTO:-0600
TZNAME:CST
DTSTART:20241103T070000
END:STANDARD
BEGIN:DAYLIGHT
TZOFFSETFROM:-0600
TZOFFSETTO:-0500
TZNAME:CDT
DTSTART:20250309T080000
END:DAYLIGHT
BEGIN:STANDARD
TZOFFSETFROM:-0500
TZOFFSETTO:-0600
TZNAME:CST
DTSTART:20251102T070000
END:STANDARD
END:VTIMEZONE
BEGIN:VEVENT
DTSTART;TZID=America/Chicago:20240420T120000
DTEND;TZID=America/Chicago:20240420T190000
DTSTAMP:20260421T120638
CREATED:20240309T034702Z
LAST-MODIFIED:20240416T011522Z
UID:10000122-1713614400-1713639600@binghamfamilyvineyards.com
SUMMARY:Texas Wine\, Hops and Shops - 2024
DESCRIPTION:Texas Wine\, Hops\, and ShopsWine and Beer Festival\n\n\n\nMcPherson Cellars Lubbock\, TX\n\n\n\n\n\n\n\n\n\n\n\n\n\n\n\n\n\n\n\n\n\n\n\n\n\nABOUT THE FESTIVAL\n\n\n\nWe are thrilled to be part of the third annual Texas Wine\, Hops & Shops festival at McPherson Cellars in downtown Lubbock\, TX! Wineries\, breweries\, and vendors from across the state will gather here to showcase the best of the Texas beverage industry. \n\n\n\nTicketholders will receive a wristband with 10 drink tickets\, giving you the opportunity to taste among 25+ stations. \n\n\n\nWith your wristband\, guests are encouraged to explore the winery\, shop among local arts vendors and listen to live music from Lubbock’s favorites. If you get hungry and want a bite to eat\, local food trucks will be lined up\, offering many tasty options to choose from. \n\n\n\nStick around through the evening for the celebratory street concert. \n\n\n\n\n\n\n\n\n\n\n\n\n\n\n\n\n\nTIckets\n\n\n\n\n\n\n\n\n\n\n\n\n\nFESTIVAL SCHEDULE\n\n\n\n\n\n\n\n11:45am: Wristband Pickup Begins \n\n\n\n12:00pm – 5:00pm: Winery & Brewery Tasting \n\n\n\n12:00pm – 5:00pm: Sip & Shop pop up shops & boutiques \n\n\n\n5:00pm – 7:00pm: Downtown Lubbock Concert \n\n\n\n\n\n\n\n\n\n\n\n\n\n\n\n\n\n\n\n​Food Trucks available from 12-5pm \n\n\n\nLive Music ALL DAY in Concert Tent \n\n\n\nCheck out the website for a list of Wineries\, Breweries\, Shops\, Musicians\, and Food Trucks \n\n\n\n\n\n\n\nThis year’s sponsor is High Plains Wine and Food Foundation \n\n\n\n\n\n\n\n\n\n\n\n\n\n\n\n\n\n\n\n\n\n\n\n\n\n\nWineries at Texas Wine\, Hops\, and Shops\n\n\n\nAdelphos CellarsBurklee Hill VineyardsBingham Family Vineyards & FarmLlano Estacado WineryEnglish Newsom CellarsFarmhouse VineyardsYellow House CellarsPrairie Chick WineryTorr Na LochsVeesart VineyardsWilliam Chris VineyardsLost Draw VineyardsBlue Duck WineryThe Triple D Winery and Event CenterJuicy Lucy’s Veggies / Idalou Harvest CoMcPherson Cellars
URL:https://binghamfamilyvineyards.com/event/texas-wine-hops-and-shops-2024/
LOCATION:McPherson Cellars\, 1615 Texas Ave\, Lubbock\, TX\, 79401
CATEGORIES:Festivals
ATTACH;FMTTYPE=image/jpeg:https://binghamfamilyvineyards.com/wp-content/uploads/2023/03/TexasWineHopsAndShops_Promo_2022-02-21-at-125443-PM-36.jpg
END:VEVENT
BEGIN:VEVENT
DTSTART;TZID=America/Chicago:20230422T000000
DTEND;TZID=America/Chicago:20230422T190000
DTSTAMP:20260421T120638
CREATED:20230414T222258Z
LAST-MODIFIED:20230414T222258Z
UID:10000060-1682121600-1682190000@binghamfamilyvineyards.com
SUMMARY:Texas Wine\, Hops\, and Shops - 2023
DESCRIPTION:The second annual Texas Wine\, Hops & Shops festival will be hosted at McPherson Cellars in downtown Lubbock\, TX! Wineries\, breweries\, and vendors from across the state will gather here to showcase the best of the Texas beverage industry. Ticket-holders will receive a wristband with 10 drink tickets\, giving you the opportunity to taste among 25+ stations. \n\n\n\nWith your wristband\, guests are encouraged to explore the winery\, shop among local arts vendors\, and listen to live music from Lubbock’s favorites. If you get hungry and want a bite to eat\, local food trucks will be lined up\, offering many tasty options to choose from. Stick around through the evening for our celebratory street concert. \n\n\n\n\n\n\n\n\nPurchase Tickets\n\n\n\n\n\n\n\n\nFESTIVAL SCHEDULE\n\n\n\n11:30am: Wristband Pickup Begins \n\n\n\n12:00pm – 5:00pm: Winery & Brewery Tasting \n\n\n\n12:00pm – 5:00pm: Sip & Shop pop up shops & boutiques \n\n\n\n5:00pm – 7:00pm: Downtown Lubbock Concert \n\n\n\nFood Trucks available from 12-5pm                           Live Music ALL DAY in Concert Tent \n\n\n\n\n\n\n\nAGE DISCLAIMER \n\n\n\nATTENDEES UNDER THE AGE OF 21 ARE PERMITTED TO PURCHASE A FESTIVAL TICKET; HOWEVER\, WILL ONLY BE ABLE TO PARTICIPATE IN NON-ALCOHOLIC FESTIVITIES AND WILL BE ISSUED AN UNDER 21 WRISTBAND WITH NO DRINK TABS. \n\n\n\nCHILDREN UNDER THE AGE OF 16 DO NOT REQUIRE A TICKET TO ATTEND. \n\n\n\nATTENDEES 16-20 REQUIRE A TICKET AND UNDER 21 WRISTBAND. ATTENDEES 21 & UP WILL RECEIVE A WRISTBAND INCLUDING 10 DRINK TICKET TABS. \n\n\n\nSale ends Apr 22\, 5:00 PM \n\n\n\n$45.00 + $3.71 Sales Tax +$1.22 service fee
URL:https://binghamfamilyvineyards.com/event/texas-wine-hops-and-shops-2023/
LOCATION:McPherson Cellars\, 1615 Texas Ave\, Lubbock\, TX\, 79401
CATEGORIES:Festivals
ATTACH;FMTTYPE=image/jpeg:https://binghamfamilyvineyards.com/wp-content/uploads/2023/03/TexasWineHopsAndShops_Promo_2022-02-21-at-125443-PM-26.jpg
END:VEVENT
END:VCALENDAR