BEGIN:VCALENDAR
VERSION:2.0
PRODID:-//Bingham Family Vineyards - ECPv6.15.20//NONSGML v1.0//EN
CALSCALE:GREGORIAN
METHOD:PUBLISH
X-WR-CALNAME:Bingham Family Vineyards
X-ORIGINAL-URL:https://binghamfamilyvineyards.com
X-WR-CALDESC:Events for Bingham Family Vineyards
REFRESH-INTERVAL;VALUE=DURATION:PT1H
X-Robots-Tag:noindex
X-PUBLISHED-TTL:PT1H
BEGIN:VTIMEZONE
TZID:America/Chicago
BEGIN:DAYLIGHT
TZOFFSETFROM:-0600
TZOFFSETTO:-0500
TZNAME:CDT
DTSTART:20240310T080000
END:DAYLIGHT
BEGIN:STANDARD
TZOFFSETFROM:-0500
TZOFFSETTO:-0600
TZNAME:CST
DTSTART:20241103T070000
END:STANDARD
BEGIN:DAYLIGHT
TZOFFSETFROM:-0600
TZOFFSETTO:-0500
TZNAME:CDT
DTSTART:20250309T080000
END:DAYLIGHT
BEGIN:STANDARD
TZOFFSETFROM:-0500
TZOFFSETTO:-0600
TZNAME:CST
DTSTART:20251102T070000
END:STANDARD
BEGIN:DAYLIGHT
TZOFFSETFROM:-0600
TZOFFSETTO:-0500
TZNAME:CDT
DTSTART:20260308T080000
END:DAYLIGHT
BEGIN:STANDARD
TZOFFSETFROM:-0500
TZOFFSETTO:-0600
TZNAME:CST
DTSTART:20261101T070000
END:STANDARD
END:VTIMEZONE
BEGIN:VEVENT
DTSTART;TZID=America/Chicago:20250412T100000
DTEND;TZID=America/Chicago:20250412T160000
DTSTAMP:20260425T094333
CREATED:20250130T032843Z
LAST-MODIFIED:20250408T122457Z
UID:10000329-1744452000-1744473600@binghamfamilyvineyards.com
SUMMARY:Grapevine Artisans Market 2025
DESCRIPTION:April 12 – September 6\n\n\n\n(except for May 17th) \n\n\n\n10 am – 4 pm — April – June9 am – 2 pm — July – September\n\n\n\nWelcome to the heart of Texas craftsmanship at the 21th Annual Grapevine Artisans Market. Discover vibrant Texas creativity as you explore the collection of handcrafted treasures made by local artisans. From intricate woodwork\, to crochet\, pottery\, jewelry and everything in between\, each piece tells a story of the rich tapestry of Texas culture. Find the perfect one-of-a-kind handmade souvenir or treat to celebrate the talents of Texas farmers and artisans. \n\n\n\n\n\n\n\nWhile you are visiting Grapevine\, come by Bingham Family Vineyards Grapevine to purchase some 100% Texas grown wine from the Dirt Farmer\, another example of farm (or vineyard) to market at its best.
URL:https://binghamfamilyvineyards.com/event/grapevine-farmers-artisan-market-2025/
LOCATION:Town Square Gazebo\, Grapevine\, Texas\, 325 S. Main St.\, Grapevine\, TX\, 76051\, United States
CATEGORIES:Grapevine
ATTACH;FMTTYPE=image/png:https://binghamfamilyvineyards.com/wp-content/uploads/2025/01/Grapevine-Artisan-Market-2025-2.png
GEO:32.9381898;-97.0781308
X-APPLE-STRUCTURED-LOCATION;VALUE=URI;X-ADDRESS=Town Square Gazebo Grapevine Texas 325 S. Main St. Grapevine TX 76051 United States;X-APPLE-RADIUS=500;X-TITLE=325 S. Main St.:geo:-97.0781308,32.9381898
END:VEVENT
END:VCALENDAR